{"text_format":"1","workbook":"xlsx","n_sheets":5,"sheets":["入力の前に必ずお読みください！（記入要領）","B表入力シート","B表","給食会入力シート","リスト"],"not_rendered":{"charts":0,"images":2,"macros":1,"external_links":2,"defined_names":56,"comments":0,"pivot_tables":0},"unopened":[],"bounds":{"document_bytes":16777216,"sheet_cells":100000,"rows_first":2000,"rows_last":500,"rows_between":2000,"halvings":0,"cell_chars":16384,"cell_head_chars":4096},"cells_cut":0,"cells_raw":0,"read":"whole","date_system":"1900"}

{"sheet":"入力の前に必ずお読みください！（記入要領）","index":0,"n_rows":80,"n_cols":7,"rows_kept":80,"cut":false,"hidden":false,"merged":[[7,1,7,8],[9,6,9,8]]}
[]
[null,null,null,"B表入力の前に必ずお読みください！"]
[]
[]
[]
[]
[]
[null,"学校給食用物資データ提出の要領 （２）"]
[]
[null,null,null,null,null,null,"２０２３年３月改訂"]
[]
[null,null,"※ 提出上の留意点"]
[null,null,"  ◎ A表（A表-１、A表-２）は別ファイルとなっています。B表とセットで提出してください。"]
[null,null,"  ◎ その他の留意点については、「学校給食用物資データ提出の要領 （１）」の留意点を参照してください。"]
[]
[null,null,"※ エクセルファイル提出時の「ファイル名」について"]
[null,null," ① A表のファイル名 ",null,"【 　該当物資名A表  】 ・・・","（該当物資名の後に「A表」を加える。「A」は半角大文字。"]
[null,null,"    　　　  （例）ハンバーグ60gA表",null,null," 物資名には規格（数字は半角・gは半角小文字）も含む。）"]
[null,null," ② B表のファイル名　",null,"【 　該当物資名B表  】 ・・・","（該当物資名の後に「B表」を加える。「B」は半角大文字。"]
[null,null,"      　　　（例）ハンバーグ60gB表",null,null," 物資名には規格（数字は半角・gは半角小文字）も含む。）"]
[]
[null,null,"   　　※ 該当物資名は,A表、B表とも同じ物資名にしてください！"]
[null,null,"   　　※ 規格違い（60gと80g等）の物資は、各々A表及びB表を提出してください！"]
[null,null,"   　　※ ファイル拡張子はｘｌｓｍであること。"]
[]
[]
[null,"３．","中国・九州地区学校給食会連絡協議会統一様式 B表の記入要領について"]
[null,null,"（１）「原料配合及び原料配合中食品添加物の詳細」の記入方法について"]
[null,null,"　①A表の原材料名"]
[null,null,"　　・A表記載と整合性を保ち、一括表示の内容・記載順序で記入すること。（A表記載の原材料の順で記入）"]
[null,null,"　②左記原材料及び原料配合中の食品添加物の詳細"]
[null,null,"　　・B表は外部に公表することはないので、「加工された原材料の原料配合」及び「原料配合中に含まれる食品添加物」について"]
[null,null,"　　　詳細に記入すること。"]
[null,null,"　③１行のセル内には１原料を記入すること。"]
[]
[null,null,"　　　(記入例）"]
[]
[]
[]
[]
[]
[]
[]
[]
[]
[]
[]
[]
[]
[]
[]
[]
[]
[]
[null,null,"　④GMO"]
[null,null,"　　・原材料（加工された原材料を含む）が、遺伝子組み換え対象農産物の場合には下記から選択すること。"]
[null,null,"　　・「組換え」","分別生産流通管理が行われた遺伝子組み換え農産物であるもの"]
[null,null,"　　・「非組換え」","分別生産流通管理が行われ遺伝子組み換え農産物の混入がないと認められるであるもの"]
[null,null,"　　・「分別管理」","遺伝子組み換え農産物と分別し生産・流通管理し意図せざる混入を5％未満に抑えているもの"]
[null,null,"　　・「IP管理」","「Identity　Preserved管理」　上記分別管理と同義　（IPハンドリング含む）"]
[null,null,"　　・「不分別」","遺伝子組み換え農産物と非遺伝子農産物が分別されていないもの"]
[null,null,"　　・「その他」","組み換えられたDNA及びこれにより生じる蛋白質が残存しない加工食品（醤油、植物油等）"]
[null,null,"　　・対象外農産物の場合は空欄とすること。"]
[]
[null,null,"（２）「容器包装材料」の記入方法について"]
[null,null,"　①外包装＜形態＞"]
[null,null,"　　・具体的に何を使用しているか分類をリストから選択し材質名を記入してください。（商品名不可）"]
[null,null,"　　・該当する分類がリストに無い場合は入力も可能です。（入力制限表示が出ますが、続けて入力ください。）"]
[null,null,"　　　　(例）　①外箱　ダンボール　②内袋　ポリ袋（又はポリプロピレン）"]
[null,null,"　②内包装＜食品に直接接する材質＞・・・デザート等の一食物商品の場合はA表へ記入してください。"]
[null,null,"　　・食品に直接接する材質が複数の場合は、全て記入すること。"]
[null,null,"　　・ラミネートの場合は食品に接する材質より順に記入すること。"]
[null,null,"　③外装包材の寸法"]
[null,null,"　　・外装包材の寸法をcmで記入すること。"]
[]
[null,null,"（３）一括表示事項に関して所管保健所の確認の有無"]
[null,null,"　　・一括表示事項に関して所管保健所の確認の「有」又は「無」をリストから選択すること。"]
[]
[null,null,"（４）食品の分類"]
[null,null,"　　・冷凍食品、冷凍加熱食肉製品（加熱後包装）などを記入すること。"]

{"sheet":"B表入力シート","index":1,"n_rows":143,"n_cols":11,"rows_kept":143,"cut":false,"hidden":false,"merged":[[60,9,60,11],[82,9,82,11],[19,1,20,1],[33,1,34,1],[43,1,44,1],[138,0,138,4],[138,5,138,6],[132,0,132,11],[141,1,141,7],[48,0,48,4],[52,1,52,2],[52,3,52,6],[52,7,52,8],[49,1,49,11],[50,1,50,11],[51,1,51,11],[108,7,108,8],[108,9,108,11],[109,7,109,8],[98,9,98,11],[89,7,89,8],[69,7,69,8],[69,9,69,11],[60,7,60,8],[140,0,140,1],[103,9,103,11],[100,9,100,11],[101,7,101,8],[101,9,101,11],[45,2,45,7],[15,2,15,10],[18,2,18,10],[68,9,68,11],[75,7,75,8],[75,9,75,11],[76,7,76,8],[76,9,76,11],[73,7,73,8],[73,9,73,11],[74,7,74,8],[74,9,74,11],[83,7,83,8],[64,3,64,6],[65,3,65,6],[84,7,84,8],[57,9,57,11],[58,7,58,8],[58,9,58,11],[107,9,107,11],[99,9,99,11],[98,7,98,8],[111,9,111,11],[96,9,96,11],[97,9,97,11],[21,2,21,3],[2,1,2,11],[3,1,3,11],[4,1,4,11],[12,2,12,6],[58,1,58,2],[59,1,59,2],[60,1,60,2],[65,9,65,11],[66,7,66,8],[63,9,63,11],[64,7,64,8],[64,9,64,11],[67,7,67,8],[67,9,67,11],[68,7,68,8],[78,3,78,6],[79,3,79,6],[87,1,87,2],[88,1,88,2],[35,2,35,7],[83,9,83,11],[22,2,22,7],[62,9,62,11],[123,15,123,16],[102,7,102,8],[102,9,102,11],[103,7,103,8],[96,7,96,8],[100,7,100,8],[89,9,89,11],[90,7,90,8],[90,9,90,11],[110,9,110,11],[104,7,104,8],[104,9,104,11],[105,7,105,8],[105,9,105,11],[106,7,106,8],[112,9,112,11],[106,9,106,11],[107,7,107,8],[63,7,63,8],[66,9,66,11],[65,7,65,8],[66,3,66,6],[70,1,70,2],[70,3,70,6],[10,2,10,5],[87,9,87,11],[88,7,88,8],[88,9,88,11],[85,7,85,8],[85,9,85,11],[86,7,86,8],[86,9,86,11],[75,3,75,6],[76,3,76,6],[79,7,79,8],[79,9,79,11],[80,7,80,8],[80,9,80,11],[77,7,77,8],[77,9,77,11],[59,7,59,8],[59,9,59,11],[95,3,95,6],[115,7,115,8],[100,3,100,6],[99,3,99,6],[101,3,101,6],[102,3,102,6],[73,1,73,2],[74,1,74,2],[75,1,75,2],[89,1,89,2],[92,7,92,8],[115,1,115,2],[97,7,97,8],[88,3,88,6],[74,3,74,6],[82,3,82,6],[83,3,83,6],[100,1,100,2],[94,1,94,2],[95,1,95,2],[96,1,96,2],[97,1,97,2],[98,1,98,2],[86,1,86,2],[114,7,114,8],[113,3,113,6],[111,1,111,2],[112,1,112,2],[76,1,76,2],[77,1,77,2],[78,1,78,2],[79,1,79,2],[80,1,80,2],[81,1,81,2],[82,1,82,2],[83,1,83,2],[84,1,84,2],[85,1,85,2],[104,1,104,2],[105,1,105,2],[106,1,106,2],[107,1,107,2],[99,1,99,2],[108,1,108,2],[109,1,109,2],[113,7,113,8],[95,7,95,8],[93,3,93,6],[61,7,61,8],[112,7,112,8],[111,7,111,8],[120,7,120,8],[92,9,92,11],[93,7,93,8],[91,7,91,8],[120,3,120,6],[121,3,121,6],[118,7,118,8],[116,7,116,8],[116,9,116,11],[117,7,117,8],[117,9,117,11],[113,9,113,11],[114,9,114,11],[115,9,115,11],[99,7,99,8],[61,9,61,11],[62,7,62,8],[78,7,78,8],[78,9,78,11],[77,3,77,6],[81,7,81,8],[72,7,72,8],[72,9,72,11],[70,7,70,8],[70,9,70,11],[84,9,84,11],[81,9,81,11],[82,7,82,8],[93,9,93,11],[94,9,94,11],[87,7,87,8],[94,7,94,8],[71,7,71,8],[71,9,71,11],[95,9,95,11],[91,9,91,11],[109,9,109,11],[58,3,58,6],[55,9,55,11],[56,7,56,8],[56,9,56,11],[53,3,53,6],[54,3,54,6],[55,3,55,6],[56,3,56,6],[57,3,57,6],[53,7,53,8],[53,9,53,11],[54,7,54,8],[54,9,54,11],[57,7,57,8],[59,3,59,6],[60,3,60,6],[61,3,61,6],[69,3,69,6],[68,3,68,6],[67,3,67,6],[87,3,87,6],[23,2,23,7],[26,2,26,3],[25,2,25,3],[24,2,24,3],[54,1,54,2],[53,1,53,2],[55,1,55,2],[56,1,56,2],[57,1,57,2],[36,2,36,7],[29,2,29,10],[32,2,32,10],[39,2,39,10],[42,2,42,10],[46,2,46,7],[55,7,55,8],[71,3,71,6],[72,3,72,6],[73,3,73,6],[84,3,84,6],[85,3,85,6],[86,3,86,6],[81,3,81,6],[61,1,61,2],[62,1,62,2],[71,1,71,2],[72,1,72,2],[66,1,66,2],[67,1,67,2],[68,1,68,2],[69,1,69,2],[80,3,80,6],[62,3,62,6],[63,3,63,6],[63,1,63,2],[64,1,64,2],[65,1,65,2],[122,3,122,6],[109,3,109,6],[101,1,101,2],[102,1,102,2],[103,1,103,2],[89,3,89,6],[90,3,90,6],[91,3,91,6],[92,3,92,6],[96,3,96,6],[97,3,97,6],[98,3,98,6],[90,1,90,2],[91,1,91,2],[92,1,92,2],[93,1,93,2],[103,3,103,6],[104,3,104,6],[105,3,105,6],[106,3,106,6],[107,3,107,6],[108,3,108,6],[116,1,116,2],[94,3,94,6],[123,3,123,6],[122,1,122,2],[123,1,123,2],[122,7,122,8],[110,1,110,2],[121,7,121,8],[121,9,121,11],[118,1,118,2],[119,1,119,2],[120,1,120,2],[121,1,121,2],[118,3,118,6],[119,3,119,6],[118,9,118,11],[119,7,119,8],[119,9,119,11],[120,9,120,11],[117,1,117,2],[117,3,117,6],[113,1,113,2],[114,1,114,2],[114,3,114,6],[115,3,115,6],[116,3,116,6],[8,2,8,3],[136,0,136,2],[134,1,134,2],[133,1,133,2],[134,4,134,5],[133,4,133,5],[134,7,134,8],[133,7,133,8],[129,10,129,11],[126,0,126,2],[129,2,129,3],[130,2,130,3],[130,6,130,7],[129,6,129,7],[110,3,110,6],[111,3,111,6],[112,3,112,6],[110,7,110,8],[122,9,122,11],[123,7,123,8],[123,9,123,11],[128,2,128,3],[128,6,128,7],[128,10,128,11]]}
["B表入力シート"]
["＜重要＞"]
[null,"★入力前にお読みください！\n\n※B表は外部に公表することはありませんので、「原料配合」及び「原料配合中に含まれる食品添加物」は詳細に\n　記入してください。（記入要領で確認してください。）\n※当該物資に必要な項目は、　　　　　　　の中に入力してください。\n※項目の記入要領は、項目ごとに「説明」あるいは「プルダウンリスト」をつけていますので、指示通り入力して\n　ください。"]
[null,"★注意事項！\n※エクセルのファイル形式は.xlsmです。（サポート期限内のEXCEL使用）\n※規格違い（60gと80g等）の物資は、各々A表及びB表を提出してください！\n※各県への提出方法（「紙面」及び「電子ファイル」）は各県の指示に従ってください。\n※製造者入力クリアボタンを使用すると「製造者」、「販売者」及び「取扱者」以外の全データが削除されます。　\n\n\n\n　 販売者入力クリアボタンを使用すると「販売者」及び「取扱者」以外の全データが削除されます。\n\n\n\n　 取扱者入力クリアボタンを使用すると「取扱者」以外の全データが削除されます。\n\n\n\n　各入力クリアボタンを使用した場合、データは復元しません。 　※作成者は上記３つのボタンで残ります。"]
[null,"★電子ファイル提出時の「ファイル名」について　（A表・B表ファイル共通）\n① A表 （商品名の後にA表を入れる）・・・【 商品名A表】\n　　　　　　　　　　　　　　　　　　　　　　　　　　（「A」は半角大文字。物資名には規格（数字は半角・gは半角小文字）も含む）\n　　　　　　　　　　　　　　　　　　　　　　　　　　　　（例）ハンバーグ60gA表\n\n② B表 （商品名の後にB表を入れる）・・・【 商品名B表 】\n　　　　　　　　　　　　　　　　　　　　　　　　　　＜「B」は半角大文字。物資名には規格（数字は半角・gは半角小文字）\n                                                    　 　も含む＞   　　　　　\n　　　　　　　　　　　　　　　　　　　　　　　　　　　　（例）ハンバーグ60gB表"]
[]
["※業者記入欄"]
[]
["１．作成日",null,null,null,"※月/日で入力ください。（YYYY年MM月DD日で表示）"]
[]
["２．作成者"]
[]
["３．品名",null,null,null,null,null,null,"※輸入品も日本語で商品を判別できるよう入力してください。"]
[]
["４．製造者"]
[null,"工場名"]
[null,"所在地","区（3桁）","町域（4桁）"]
[null,"〒",null,null,"※郵便番号及び電話番号とも半角でも全角でも構いません。"]
[null,"住所"]
[null,"電話番号","市外局番","市内局番","加入者番号"]
[]
[null,"日産能力",null,null,"※当該品の日産能力（単位［ｋｇ、トン、食　等］も入力してください）"]
[null,"問合せ担当部署"]
[null,"問合せe-mail"]
[null,"細菌検査",null,null,"※細菌検査実施の「有・無」とその検査が「自社」又は「外部委託」で行われたかをリストから選択してください。"]
[null,"理化学検査",null,null,"※理化学検査実施の「有・無」とその検査が「自社」又は「外部委託」で行われたかをリストから選択してください。"]
[null,"金属探知機",null,null,"※金属探知機設置の「有・無」と「原料・製品」かについてリストから選択してください。"]
[]
["５．販売者"]
[null,"社名"]
[null,"所在地","区（3桁）","町域（4桁）"]
[null,"〒",null,null,"※郵便番号及び電話番号とも半角でも全角でも構いません。"]
[null,"住所"]
[null,"電話番号","市外局番","市内局番","加入者番号"]
[]
[null,"問合せ担当部署"]
[null,"問合せe-mail"]
[]
["６．取扱者"]
[null,"社名"]
[null,"所在地","区（3桁）","町域（4桁）"]
[null,"〒",null,null,"※郵便番号及び電話番号とも半角でも全角でも構いません。"]
[null,"住所"]
[null,"電話番号","市外局番","市内局番","加入者番号"]
[]
[null,"担当者"]
[null,"e-mail"]
[]
["７．原料配合及び原料配合中の食品添加物の詳細",null,null,null,null,"※A表記載事項と整合性を保ち、一括表示の内容・記載順序で記入してください。"]
[null,"１列　A表記載の原材料の順で記入してください。"]
[null,"２列　B表は外部に公表することはありませんので、「加工された原材料の原料配合」及び「原料配合中に含まれる食品添加物」\n　　　は詳細に記入してください。記入方法は、記入要領の記入例を参照してください。"]
[null,"３列　原材料（加工された原材料を含む）が、遺伝子組み換え対象農産物（GMO）の場合には入力リストから選択してください。\n　　　 入力リストの項目については記入要領を参照してください。"]
[null,"１列",null,"２列",null,null,null,"３列",null,null,"４列"]
["No","A表記載の原材料名",null,"左記原材料及び原料配合\n中の食品添加物の詳細",null,null,null,"GMO",null,"購入先"]
[1]
[2]
[3]
[4]
[5]
[6]
[7]
[8]
[9]
[10]
[11]
[12]
[13]
[14]
[15]
[16]
[17]
[18]
[19]
[20]
[21]
[22]
[23]
[24]
[25]
[26]
[27]
[28]
[29]
[30]
[31]
[32]
[33]
[34]
[35]
[36]
[37]
[38]
[39]
[40]
[41]
[42]
[43]
[44]
[45]
[46]
[47]
[48]
[49]
[50]
[51]
[52]
[53]
[54]
[55]
[56]
[57]
[58]
[59]
[60]
[61]
[62]
[63]
[64]
[65]
[66]
[67]
[68]
[69]
[70]
[]
["８．容器包装材料"]
["【外包装】形態（材質名記入）",null,null,"※具体的に何を使用しているか分類を選択又は入力し材質名を記入してください。（商品名不可）"]
[null,null,null,"　　(例）①外箱　ダンボール　②内袋　ポリ袋（ポリプロピレン）　※シートは食品に直接接しない場合"]
[null,"分類","材質",null,null,"分類","材質",null,null,"分類","材質"]
["①",null,null,null,"②",null,null,null,"③"]
["④",null,null,null,"⑤"]
[]
["【内包装】食品に直接接する材質（ラミネート(積層)の場合は食品に接する材質より順に記入）　※デザートや包み焼の場合はA表への記載も忘れずに"]
["①",null,null,"②",null,null,"③"]
["④",null,null,"⑤",null,null,"⑥"]
[]
["外装包材の寸法",null,null,null,null,"×",null,"×",null,"※cmで記入してください。"]
[]
["９．一括表示事項に関して所管保健所の確認の有無",null,null,null,null,null,null,"※「有」又は「無」をリストから選択してください。"]
[]
["１０．食品の分類"]
[]
[null,"※（例）冷凍食品、冷凍加熱食肉製品（加熱後包装）など。"]

{"sheet":"B表","index":2,"n_rows":64,"n_cols":14,"rows_kept":64,"cut":false,"hidden":false,"merged":[[62,0,62,5],[63,6,63,13],[63,0,63,5],[62,6,62,8],[57,3,57,13],[13,4,13,8],[16,4,16,8],[11,3,11,13],[14,3,14,13],[57,0,57,2],[11,0,13,1],[13,2,13,3],[16,10,16,13],[14,0,16,1],[15,11,15,13],[12,11,12,13],[26,1,26,2],[27,1,27,2],[28,1,28,2],[29,1,29,2],[30,1,30,2],[31,1,31,2],[20,1,20,2],[21,1,21,2],[54,1,54,2],[19,3,19,4],[5,0,5,1],[2,10,2,11],[4,0,4,1],[10,2,10,3],[16,2,16,3],[9,3,9,5],[7,3,7,9],[12,3,12,9],[15,3,15,9],[7,0,10,1],[4,2,4,6],[13,10,13,13],[8,3,8,9],[9,12,9,13],[8,12,8,13],[7,12,7,13],[9,10,9,11],[8,10,8,11],[9,6,9,7],[10,4,10,8],[9,8,9,9],[2,12,2,13],[4,12,4,13],[5,2,5,6],[20,3,20,4],[21,3,21,4],[22,3,22,4],[23,3,23,4],[24,3,24,4],[5,12,5,13],[5,10,5,11],[4,10,4,11],[7,10,7,11],[20,10,20,11],[19,10,19,11],[22,10,22,11],[23,10,23,11],[22,1,22,2],[23,1,23,2],[51,1,51,2],[20,8,20,9],[19,8,19,9],[21,8,21,9],[22,8,22,9],[23,8,23,9],[24,8,24,9],[50,3,50,4],[37,3,37,4],[38,3,38,4],[39,3,39,4],[40,3,40,4],[41,3,41,4],[42,3,42,4],[31,3,31,4],[32,3,32,4],[19,1,19,2],[44,1,44,2],[45,1,45,2],[46,1,46,2],[47,1,47,2],[48,1,48,2],[49,1,49,2],[38,1,38,2],[39,1,39,2],[40,1,40,2],[41,1,41,2],[42,1,42,2],[43,1,43,2],[32,1,32,2],[33,1,33,2],[34,1,34,2],[24,1,24,2],[36,1,36,2],[37,1,37,2],[25,1,25,2],[53,1,53,2],[25,3,25,4],[26,3,26,4],[27,3,27,4],[51,3,51,4],[52,3,52,4],[53,3,53,4],[54,3,54,4],[43,3,43,4],[44,3,44,4],[45,3,45,4],[46,3,46,4],[47,3,47,4],[48,3,48,4],[50,1,50,2],[35,1,35,2],[49,3,49,4],[52,1,52,2],[36,3,36,4],[28,3,28,4],[29,3,29,4],[30,3,30,4],[33,3,33,4],[34,3,34,4],[25,8,25,9],[26,8,26,9],[27,8,27,9],[28,8,28,9],[29,8,29,9],[30,8,30,9],[52,8,52,9],[53,8,53,9],[54,8,54,9],[45,8,45,9],[46,8,46,9],[47,8,47,9],[48,8,48,9],[43,8,43,9],[44,8,44,9],[51,8,51,9],[35,3,35,4],[31,8,31,9],[32,8,32,9],[33,8,33,9],[34,8,34,9],[35,8,35,9],[36,8,36,9],[49,8,49,9],[50,8,50,9],[37,8,37,9],[38,8,38,9],[39,8,39,9],[40,8,40,9],[41,8,41,9],[42,8,42,9],[49,10,49,11],[50,10,50,11],[37,10,37,11],[38,10,38,11],[39,10,39,11],[40,10,40,11],[41,10,41,11],[42,10,42,11],[31,10,31,11],[32,10,32,11],[33,10,33,11],[34,10,34,11],[35,10,35,11],[36,10,36,11],[25,10,25,11],[26,10,26,11],[27,10,27,11],[43,10,43,11],[21,10,21,11],[24,10,24,11],[10,10,10,13],[58,0,58,8],[60,0,60,2],[60,3,60,8],[59,0,59,13],[56,0,56,2],[51,10,51,11],[52,10,52,11],[53,10,53,11],[54,10,54,11],[44,10,44,11],[45,10,45,11],[46,10,46,11],[47,10,47,11],[48,10,48,11],[28,10,28,11],[29,10,29,11],[30,10,30,11]]}
[null,null,null,null,null,null,null,null,null,null,null,null,null,"２０２３年３月改訂"]
["中国・九州地区学校給食会連絡協議会統一様式（B表）"]
[null,null,null,null,null,null,null,null,null,null,"給食会コード",null,{"$f":"給食会入力シート!C4","v":0}]
[]
["給食会品名",null,{"$f":"給食会入力シート!C6","v":0},null,null,null,null,null,null,null,"作成日",null,{"$f":"IF(B表入力シート!C9=\"\",\"\",B表入力シート!C9)","v":""}]
["品　　　　　 名",null,{"$f":"B表入力シート!C13","v":0},null,null,null,null,null,null,null,"作成者",null,{"$f":"B表入力シート!C11","v":0}]
[]
["製造者",null,"工場名",{"$f":"B表入力シート!C16","v":0},null,null,null,null,null,null,"細菌検査",null,{"$f":"B表入力シート!C25","v":0}]
[null,null,"住所",{"$f":"IF(B表入力シート!C19=\"\",\"\",IF(B表入力シート!C18=\"\",B表入力シート!C19,\"〒\"&B表入力シート!C18&\"-\"&B表入力シート!D18&\"　\"&B表入力シート!C19))","v":""},null,null,null,null,null,null,"理化学検査",null,{"$f":"B表入力シート!C26","v":0}]
[null,null," TEL",{"$f":"IF(B表入力シート!C21=\"\",\"\",CONCATENATE(B表入力シート!C21,\"-\",B表入力シート!D21,\"-\",B表入力シート!E21))","v":""},null,null,"日産能力",null,{"$f":"B表入力シート!C22","v":0},null,"金属探知機",null,{"$f":"B表入力シート!C27","v":0}]
[null,null,"問合せ担当部署",null,{"$f":"B表入力シート!C23","v":0},null,null,null,null,"e-mail",{"$f":"B表入力シート!C24","v":0}]
["販売者",null,"社名",{"$f":"B表入力シート!C30","v":0}]
[null,null,"住所",{"$f":"IF(B表入力シート!C33=\"\",\"\",IF(B表入力シート!C32=\"\",B表入力シート!C33,\"〒\"&B表入力シート!C32&\"-\"&B表入力シート!D32&\"　\"&B表入力シート!C33))","v":""},null,null,null,null,null,null," TEL",{"$f":"IF(B表入力シート!C35=\"\",\"\",CONCATENATE(B表入力シート!C35,\"-\",B表入力シート!D35,\"-\",B表入力シート!E35))","v":""}]
[null,null,"問合せ担当部署",null,{"$f":"B表入力シート!C36","v":0},null,null,null,null,"e-mail",{"$f":"B表入力シート!C37","v":0}]
["取扱者",null,"社名",{"$f":"B表入力シート!C40","v":0}]
[null,null,"住所",{"$f":"IF(B表入力シート!C43=\"\",\"\",IF(B表入力シート!C42=\"\",B表入力シート!C43,\"〒\"&B表入力シート!C42&\"-\"&B表入力シート!D42&\"　\"&B表入力シート!C43))","v":""},null,null,null,null,null,null," TEL",{"$f":"IF(B表入力シート!C45=\"\",\"\",CONCATENATE(B表入力シート!C45,\"-\",B表入力シート!D45,\"-\",B表入力シート!E45))","v":""}]
[null,null,"担当者",null,{"$f":"B表入力シート!C46","v":0},null,null,null,null,"e-mail",{"$f":"B表入力シート!C47","v":0}]
[]
["原料配合及び原料配合中の食品添加物の詳細（加工品使用の場合は詳細別添のこと）"]
[null,"A表の原材料名",null,"左記原材料及び原料配合\n中の食品添加物の詳細",null,"GMO","購入先",null,"A表の原材料名",null,"左記原材料及び原料配合\n中の食品添加物の詳細",null,"GMO","購入先"]
[1,{"$f":"B表入力シート!B55","v":0},null,{"$f":"B表入力シート!D55","v":0},null,{"$f":"B表入力シート!H55","v":0},{"$f":"B表入力シート!J55","v":0},36,{"$f":"B表入力シート!B90","v":0},null,{"$f":"B表入力シート!D90","v":0},null,{"$f":"B表入力シート!H90","v":0},{"$f":"B表入力シート!J90","v":0}]
[2,{"$f":"B表入力シート!B56","v":0},null,{"$f":"B表入力シート!D56","v":0},null,{"$f":"B表入力シート!H56","v":0},{"$f":"B表入力シート!J56","v":0},37,{"$f":"B表入力シート!B91","v":0},null,{"$f":"B表入力シート!D91","v":0},null,{"$f":"B表入力シート!H91","v":0},{"$f":"B表入力シート!J91","v":0}]
[3,{"$f":"B表入力シート!B57","v":0},null,{"$f":"B表入力シート!D57","v":0},null,{"$f":"B表入力シート!H57","v":0},{"$f":"B表入力シート!J57","v":0},38,{"$f":"B表入力シート!B92","v":0},null,{"$f":"B表入力シート!D92","v":0},null,{"$f":"B表入力シート!H92","v":0},{"$f":"B表入力シート!J92","v":0}]
[4,{"$f":"B表入力シート!B58","v":0},null,{"$f":"B表入力シート!D58","v":0},null,{"$f":"B表入力シート!H58","v":0},{"$f":"B表入力シート!J58","v":0},39,{"$f":"B表入力シート!B93","v":0},null,{"$f":"B表入力シート!D93","v":0},null,{"$f":"B表入力シート!H93","v":0},{"$f":"B表入力シート!J93","v":0}]
[5,{"$f":"B表入力シート!B59","v":0},null,{"$f":"B表入力シート!D59","v":0},null,{"$f":"B表入力シート!H59","v":0},{"$f":"B表入力シート!J59","v":0},40,{"$f":"B表入力シート!B94","v":0},null,{"$f":"B表入力シート!D94","v":0},null,{"$f":"B表入力シート!H94","v":0},{"$f":"B表入力シート!J94","v":0}]
[6,{"$f":"B表入力シート!B60","v":0},null,{"$f":"B表入力シート!D60","v":0},null,{"$f":"B表入力シート!H60","v":0},{"$f":"B表入力シート!J60","v":0},41,{"$f":"B表入力シート!B95","v":0},null,{"$f":"B表入力シート!D95","v":0},null,{"$f":"B表入力シート!H95","v":0},{"$f":"B表入力シート!J95","v":0}]
[7,{"$f":"B表入力シート!B61","v":0},null,{"$f":"B表入力シート!D61","v":0},null,{"$f":"B表入力シート!H61","v":0},{"$f":"B表入力シート!J61","v":0},42,{"$f":"B表入力シート!B96","v":0},null,{"$f":"B表入力シート!D96","v":0},null,{"$f":"B表入力シート!H96","v":0},{"$f":"B表入力シート!J96","v":0}]
[8,{"$f":"B表入力シート!B62","v":0},null,{"$f":"B表入力シート!D62","v":0},null,{"$f":"B表入力シート!H62","v":0},{"$f":"B表入力シート!J62","v":0},43,{"$f":"B表入力シート!B97","v":0},null,{"$f":"B表入力シート!D97","v":0},null,{"$f":"B表入力シート!H97","v":0},{"$f":"B表入力シート!J97","v":0}]
[9,{"$f":"B表入力シート!B63","v":0},null,{"$f":"B表入力シート!D63","v":0},null,{"$f":"B表入力シート!H63","v":0},{"$f":"B表入力シート!J63","v":0},44,{"$f":"B表入力シート!B98","v":0},null,{"$f":"B表入力シート!D98","v":0},null,{"$f":"B表入力シート!H98","v":0},{"$f":"B表入力シート!J98","v":0}]
[10,{"$f":"B表入力シート!B64","v":0},null,{"$f":"B表入力シート!D64","v":0},null,{"$f":"B表入力シート!H64","v":0},{"$f":"B表入力シート!J64","v":0},45,{"$f":"B表入力シート!B99","v":0},null,{"$f":"B表入力シート!D99","v":0},null,{"$f":"B表入力シート!H99","v":0},{"$f":"B表入力シート!J99","v":0}]
[11,{"$f":"B表入力シート!B65","v":0},null,{"$f":"B表入力シート!D65","v":0},null,{"$f":"B表入力シート!H65","v":0},{"$f":"B表入力シート!J65","v":0},46,{"$f":"B表入力シート!B100","v":0},null,{"$f":"B表入力シート!D100","v":0},null,{"$f":"B表入力シート!H100","v":0},{"$f":"B表入力シート!J100","v":0}]
[12,{"$f":"B表入力シート!B66","v":0},null,{"$f":"B表入力シート!D66","v":0},null,{"$f":"B表入力シート!H66","v":0},{"$f":"B表入力シート!J66","v":0},47,{"$f":"B表入力シート!B101","v":0},null,{"$f":"B表入力シート!D101","v":0},null,{"$f":"B表入力シート!H101","v":0},{"$f":"B表入力シート!J101","v":0}]
[13,{"$f":"B表入力シート!B67","v":0},null,{"$f":"B表入力シート!D67","v":0},null,{"$f":"B表入力シート!H67","v":0},{"$f":"B表入力シート!J67","v":0},48,{"$f":"B表入力シート!B102","v":0},null,{"$f":"B表入力シート!D102","v":0},null,{"$f":"B表入力シート!H102","v":0},{"$f":"B表入力シート!J102","v":0}]
[14,{"$f":"B表入力シート!B68","v":0},null,{"$f":"B表入力シート!D68","v":0},null,{"$f":"B表入力シート!H68","v":0},{"$f":"B表入力シート!J68","v":0},49,{"$f":"B表入力シート!B103","v":0},null,{"$f":"B表入力シート!D103","v":0},null,{"$f":"B表入力シート!H103","v":0},{"$f":"B表入力シート!J103","v":0}]
[15,{"$f":"B表入力シート!B69","v":0},null,{"$f":"B表入力シート!D69","v":0},null,{"$f":"B表入力シート!H69","v":0},{"$f":"B表入力シート!J69","v":0},50,{"$f":"B表入力シート!B104","v":0},null,{"$f":"B表入力シート!D104","v":0},null,{"$f":"B表入力シート!H104","v":0},{"$f":"B表入力シート!J104","v":0}]
[16,{"$f":"B表入力シート!B70","v":0},null,{"$f":"B表入力シート!D70","v":0},null,{"$f":"B表入力シート!H70","v":0},{"$f":"B表入力シート!J70","v":0},51,{"$f":"B表入力シート!B105","v":0},null,{"$f":"B表入力シート!D105","v":0},null,{"$f":"B表入力シート!H105","v":0},{"$f":"B表入力シート!J105","v":0}]
[17,{"$f":"B表入力シート!B71","v":0},null,{"$f":"B表入力シート!D71","v":0},null,{"$f":"B表入力シート!H71","v":0},{"$f":"B表入力シート!J71","v":0},52,{"$f":"B表入力シート!B106","v":0},null,{"$f":"B表入力シート!D106","v":0},null,{"$f":"B表入力シート!H106","v":0},{"$f":"B表入力シート!J106","v":0}]
[18,{"$f":"B表入力シート!B72","v":0},null,{"$f":"B表入力シート!D72","v":0},null,{"$f":"B表入力シート!H72","v":0},{"$f":"B表入力シート!J72","v":0},53,{"$f":"B表入力シート!B107","v":0},null,{"$f":"B表入力シート!D107","v":0},null,{"$f":"B表入力シート!H107","v":0},{"$f":"B表入力シート!J107","v":0}]
[19,{"$f":"B表入力シート!B73","v":0},null,{"$f":"B表入力シート!D73","v":0},null,{"$f":"B表入力シート!H73","v":0},{"$f":"B表入力シート!J73","v":0},54,{"$f":"B表入力シート!B108","v":0},null,{"$f":"B表入力シート!D108","v":0},null,{"$f":"B表入力シート!H108","v":0},{"$f":"B表入力シート!J108","v":0}]
[20,{"$f":"B表入力シート!B74","v":0},null,{"$f":"B表入力シート!D74","v":0},null,{"$f":"B表入力シート!H74","v":0},{"$f":"B表入力シート!J74","v":0},55,{"$f":"B表入力シート!B109","v":0},null,{"$f":"B表入力シート!D109","v":0},null,{"$f":"B表入力シート!H109","v":0},{"$f":"B表入力シート!J109","v":0}]
[21,{"$f":"B表入力シート!B75","v":0},null,{"$f":"B表入力シート!D75","v":0},null,{"$f":"B表入力シート!H75","v":0},{"$f":"B表入力シート!J75","v":0},56,{"$f":"B表入力シート!B110","v":0},null,{"$f":"B表入力シート!D110","v":0},null,{"$f":"B表入力シート!H110","v":0},{"$f":"B表入力シート!J110","v":0}]
[22,{"$f":"B表入力シート!B76","v":0},null,{"$f":"B表入力シート!D76","v":0},null,{"$f":"B表入力シート!H76","v":0},{"$f":"B表入力シート!J76","v":0},57,{"$f":"B表入力シート!B111","v":0},null,{"$f":"B表入力シート!D111","v":0},null,{"$f":"B表入力シート!H111","v":0},{"$f":"B表入力シート!J111","v":0}]
[23,{"$f":"B表入力シート!B77","v":0},null,{"$f":"B表入力シート!D77","v":0},null,{"$f":"B表入力シート!H77","v":0},{"$f":"B表入力シート!J77","v":0},58,{"$f":"B表入力シート!B112","v":0},null,{"$f":"B表入力シート!D112","v":0},null,{"$f":"B表入力シート!H112","v":0},{"$f":"B表入力シート!J112","v":0}]
[24,{"$f":"B表入力シート!B78","v":0},null,{"$f":"B表入力シート!D78","v":0},null,{"$f":"B表入力シート!H78","v":0},{"$f":"B表入力シート!J78","v":0},59,{"$f":"B表入力シート!B113","v":0},null,{"$f":"B表入力シート!D113","v":0},null,{"$f":"B表入力シート!H113","v":0},{"$f":"B表入力シート!J113","v":0}]
[25,{"$f":"B表入力シート!B79","v":0},null,{"$f":"B表入力シート!D79","v":0},null,{"$f":"B表入力シート!H79","v":0},{"$f":"B表入力シート!J79","v":0},60,{"$f":"B表入力シート!B114","v":0},null,{"$f":"B表入力シート!D114","v":0},null,{"$f":"B表入力シート!H114","v":0},{"$f":"B表入力シート!J114","v":0}]
[26,{"$f":"B表入力シート!B80","v":0},null,{"$f":"B表入力シート!D80","v":0},null,{"$f":"B表入力シート!H80","v":0},{"$f":"B表入力シート!J80","v":0},61,{"$f":"B表入力シート!B115","v":0},null,{"$f":"B表入力シート!D115","v":0},null,{"$f":"B表入力シート!H115","v":0},{"$f":"B表入力シート!J115","v":0}]
[27,{"$f":"B表入力シート!B81","v":0},null,{"$f":"B表入力シート!D81","v":0},null,{"$f":"B表入力シート!H81","v":0},{"$f":"B表入力シート!J81","v":0},62,{"$f":"B表入力シート!B116","v":0},null,{"$f":"B表入力シート!D116","v":0},null,{"$f":"B表入力シート!H116","v":0},{"$f":"B表入力シート!J116","v":0}]
[28,{"$f":"B表入力シート!B82","v":0},null,{"$f":"B表入力シート!D82","v":0},null,{"$f":"B表入力シート!H82","v":0},{"$f":"B表入力シート!J82","v":0},63,{"$f":"B表入力シート!B117","v":0},null,{"$f":"B表入力シート!D117","v":0},null,{"$f":"B表入力シート!H117","v":0},{"$f":"B表入力シート!J117","v":0}]
[29,{"$f":"B表入力シート!B83","v":0},null,{"$f":"B表入力シート!D83","v":0},null,{"$f":"B表入力シート!H83","v":0},{"$f":"B表入力シート!J83","v":0},64,{"$f":"B表入力シート!B118","v":0},null,{"$f":"B表入力シート!D118","v":0},null,{"$f":"B表入力シート!H118","v":0},{"$f":"B表入力シート!J118","v":0}]
[30,{"$f":"B表入力シート!B84","v":0},null,{"$f":"B表入力シート!D84","v":0},null,{"$f":"B表入力シート!H84","v":0},{"$f":"B表入力シート!J84","v":0},65,{"$f":"B表入力シート!B119","v":0},null,{"$f":"B表入力シート!D119","v":0},null,{"$f":"B表入力シート!H119","v":0},{"$f":"B表入力シート!J119","v":0}]
[31,{"$f":"B表入力シート!B85","v":0},null,{"$f":"B表入力シート!D85","v":0},null,{"$f":"B表入力シート!H85","v":0},{"$f":"B表入力シート!J85","v":0},66,{"$f":"B表入力シート!B120","v":0},null,{"$f":"B表入力シート!D120","v":0},null,{"$f":"B表入力シート!H120","v":0},{"$f":"B表入力シート!J120","v":0}]
[32,{"$f":"B表入力シート!B86","v":0},null,{"$f":"B表入力シート!D86","v":0},null,{"$f":"B表入力シート!H86","v":0},{"$f":"B表入力シート!J86","v":0},67,{"$f":"B表入力シート!B121","v":0},null,{"$f":"B表入力シート!D121","v":0},null,{"$f":"B表入力シート!H121","v":0},{"$f":"B表入力シート!J121","v":0}]
[33,{"$f":"B表入力シート!B87","v":0},null,{"$f":"B表入力シート!D87","v":0},null,{"$f":"B表入力シート!H87","v":0},{"$f":"B表入力シート!J87","v":0},68,{"$f":"B表入力シート!B122","v":0},null,{"$f":"B表入力シート!D122","v":0},null,{"$f":"B表入力シート!H122","v":0},{"$f":"B表入力シート!J122","v":0}]
[34,{"$f":"B表入力シート!B88","v":0},null,{"$f":"B表入力シート!D88","v":0},null,{"$f":"B表入力シート!H88","v":0},{"$f":"B表入力シート!J88","v":0},69,{"$f":"B表入力シート!B123","v":0},null,{"$f":"B表入力シート!D123","v":0},null,{"$f":"B表入力シート!H123","v":0},{"$f":"B表入力シート!J123","v":0}]
[35,{"$f":"B表入力シート!B89","v":0},null,{"$f":"B表入力シート!D89","v":0},null,{"$f":"B表入力シート!H89","v":0},{"$f":"B表入力シート!J89","v":0},70,{"$f":"B表入力シート!B124","v":0},null,{"$f":"B表入力シート!D124","v":0},null,{"$f":"B表入力シート!H124","v":0},{"$f":"B表入力シート!J124","v":0}]
[]
["容　器　包　装　材　料"]
["包装形態（材質名記入）",null,null,{"$f":"IF(AND(B表入力シート!C130=\"\",B表入力シート!G130=\"\",B表入力シート!K130=\"\",B表入力シート!C131=\"\",B表入力シート!G131=\"\")=TRUE,\"\",CONCATENATE(リスト!B107,リスト!B108,リスト!B109,リスト!B110,リスト!B111))","v":""}]
["食品に直接接する材質（ラミネートの場合は食品に接する材質より順に記入）"]
[{"$f":"IF(AND(B表入力シート!B134=\"\",B表入力シート!E134=\"\",B表入力シート!H134=\"\",B表入力シート!B135=\"\",B表入力シート!E135=\"\",B表入力シート!H135=\"\")=TRUE,\"\",CONCATENATE(リスト!B115,リスト!B116,リスト!B117,リスト!B118,リスト!B119,リスト!B120))","v":""}]
["外装包材寸法（cm）",null,null,{"$f":"IF(B表入力シート!E137=\"\",\"\",_xlfn.CONCAT(B表入力シート!E137,\"×\",B表入力シート!G137,\"×\",B表入力シート!I137))","v":""}]
[]
["一括表示事項に関して所管保健所の確認の有無",null,null,null,null,null,{"$f":"B表入力シート!F139","v":0}]
["食品の分類",null,null,null,null,null,{"$f":"B表入力シート!B142","v":0}]

{"sheet":"給食会入力シート","index":3,"n_rows":8,"n_cols":2,"rows_kept":8,"cut":false,"hidden":false,"merged":[[5,2,5,4],[7,2,7,5]]}
[]
[null,"※給食会記入欄"]
[]
[null,"１　給食会コード"]
[]
[null,"２　給食会品名"]
[]
[null,"３　メモ欄"]

{"sheet":"リスト","index":4,"n_rows":120,"n_cols":2,"rows_kept":120,"cut":false,"hidden":true,"merged":[]}
["作成年",22]
[null,23]
[null,24]
[null,25]
[null,26]
[null,27]
[null,28]
[null,29]
[null,30]
[null,31]
[null,32]
[null,33]
[null,34]
[null,35]
[null,36]
[null,37]
[null,38]
[null,39]
[null,40]
[]
["作成月",1]
[null,2]
[null,3]
[null,4]
[null,5]
[null,6]
[null,7]
[null,8]
[null,9]
[null,10]
[null,11]
[null,12]
[]
["作成日",1]
[null,2]
[null,3]
[null,4]
[null,5]
[null,6]
[null,7]
[null,8]
[null,9]
[null,10]
[null,11]
[null,12]
[null,13]
[null,14]
[null,15]
[null,16]
[null,17]
[null,18]
[null,19]
[null,20]
[null,21]
[null,22]
[null,23]
[null,24]
[null,25]
[null,26]
[null,27]
[null,28]
[null,29]
[null,30]
[null,31]
[]
["細菌検査"]
[null,"無"]
[null,"有（自社）"]
[null,"有（外部委託）"]
[null,"有（自社及び外部委託）"]
[]
["理化学検査"]
[null,"無"]
[null,"有（自社）"]
[null,"有（委託）"]
[null,"有（自社及び委託）"]
[]
["金属探知機"]
[null,"無"]
[null,"有（原料）"]
[null,"有（製品）"]
[null,"有（原料及び製品）"]
[]
["遺伝子組み換え"]
[null,"組換え"]
[null,"非組換え"]
[null,"分別管理"]
[null,"IP管理"]
[null,"不分別"]
[null,"その他"]
[]
["保健所の確認"]
[null,"有"]
[null,"無"]
[]
[]
["包装形態（材質名記入）"]
[null,"外箱"]
[null,"外パック"]
[null,"内袋"]
[null,"内箱"]
[null,"シート"]
[null,"バンド"]
[null,"他"]
[]
["包装形態（材質名記入）（リンク）"]
[null,{"$f":"IF(B表入力シート!C130=\"\",\"\",\"①\"&B表入力シート!B130&\"：\"&B表入力シート!C130&\"　\")","v":""}]
[null,{"$f":"IF(B表入力シート!G130=\"\",\"\",\"②\"&B表入力シート!F130&\"：\"&B表入力シート!G130&\"　\")","v":""}]
[null,{"$f":"IF(B表入力シート!K130=\"\",\"\",\"③\"&B表入力シート!J130&\"：\"&B表入力シート!K130&\"　\")","v":""}]
[null,{"$f":"IF(B表入力シート!C131=\"\",\"\",\"④\"&B表入力シート!B131&\"：\"&B表入力シート!C131&\"　\")","v":""}]
[null,{"$f":"IF(B表入力シート!G131=\"\",\"\",\"⑤\"&B表入力シート!F131&\"：\"&B表入力シート!G131&\"　\")","v":""}]
[]
[]
["食品に直接接する材質（リンク）"]
[null,{"$f":"IF(B表入力シート!B134=\"\",\"\",\"①\"&B表入力シート!B134&\"　\")","v":""}]
[null,{"$f":"IF(B表入力シート!E134=\"\",\"\",\"②\"&B表入力シート!E134&\"　\")","v":""}]
[null,{"$f":"IF(B表入力シート!H134=\"\",\"\",\"③\"&B表入力シート!H134&\"　\")","v":""}]
[null,{"$f":"IF(B表入力シート!B135=\"\",\"\",\"④\"&B表入力シート!B135&\"　\")","v":""}]
[null,{"$f":"IF(B表入力シート!E135=\"\",\"\",\"⑤\"&B表入力シート!E135&\"　\")","v":""}]
[null,{"$f":"IF(B表入力シート!H135=\"\",\"\",\"⑥\"&B表入力シート!H135&\"　\")","v":""}]