{"text_format":"1","workbook":"xlsx","n_sheets":6,"sheets":["入力の前に必ずお読みください！（記入要領・指示リスト）","A表入力シート","A表 -1","A表-2","給食会入力シート","リスト（非表示）"],"not_rendered":{"charts":0,"images":8,"macros":1,"external_links":0,"defined_names":44,"comments":0,"pivot_tables":0},"unopened":[],"bounds":{"document_bytes":16777216,"sheet_cells":100000,"rows_first":2000,"rows_last":500,"rows_between":2000,"halvings":0,"cell_chars":16384,"cell_head_chars":4096},"cells_cut":0,"cells_raw":0,"read":"whole","date_system":"1900"}

{"sheet":"入力の前に必ずお読みください！（記入要領・指示リスト）","index":0,"n_rows":181,"n_cols":5,"rows_kept":181,"cut":false,"hidden":false,"merged":[[145,4,145,6],[178,0,178,6],[179,4,179,5],[7,0,7,6],[9,4,9,5],[141,1,142,2],[141,3,142,3],[141,4,142,6],[144,4,144,6]]}
[]
[null,null,"A表入力の前に必ずお読みください！"]
[]
[]
[]
[]
[]
["学校給食用物資データ提出の要領 （１）"]
[]
[null,null,null,null,"２０２３年３月一部改訂"]
[null,"※ 提出上の留意点"]
[null," ◎ 提出書類等は下記の通り、A表（A表-１、A表-２）、B表及びその添付書類等です。"]
[null,"     B表は別ファイルとなっています。A表（A表-１、A表-２）とセットで提出してください。"]
[null," ◎ 下記の指示に従い、各品目ごとに各県指定の期日までに提出してください。"]
[null," ◎ 各県への提出については、「電子ファイル」か「ペーパー」かは各県の指示に従ってください。"]
[null," ◎ 使用する日本食品標準成分表は、給食会が指定する版のものを使用すること。（ 各県の指示に従ってください ）"]
[null," ◎ 試験成績書を得るため受験する試料については、製造条件の差なども考慮し当該物資を代表するもので あるよう十分留意"]
[null,"     してください。"]
[null," ◎ 提出時完備困難な場合、あらかじめ各県の了解を求めその指示に従ってください。"]
[null," ◎ 年度途中での新規取扱い物資についても同様とします。"]
[]
[null,"※ エクセルファイル提出時の「ファイル名」について"]
[null," ① A表のファイル名 ","【 　該当物資名A表  】 ・・・","（該当物資名の後に「A表」を加える。「A」は半角大文字。"]
[null,"      （例）ハンバーグ60gA表",null," 物資名には規格（数字は半角・gは半角小文字）も含む。）"]
[null," ② B表のファイル名　","【 　該当物資名B表  】 ・・・","（該当物資名の後に「B表」を加える。「B」は半角大文字。"]
[null,"      （例）ハンバーグ60gB表",null," 物資名には規格（数字は半角・gは半角小文字）も含む。）"]
[]
[null,"   　　※ 該当物資名は,A表、B表とも同じ物資名にしてください！"]
[null,"   　　※ 規格違い（60gと80g等）の物資は、各々A表及びB表を提出してください！"]
[null,"   　　※ ファイル拡張子はｘｌｓｍであること。"]
[]
[]
[]
["１．","提出書類等について"]
[null,"（１）全ての物資について必要とする書類等"]
[]
[]
[]
[]
[]
[]
[]
[]
[]
[]
[]
[]
[null,"（２）個包装のあるもの、JAS品又は輸入品についてそれぞれ必要とする書類"]
[]
[]
[]
[]
[]
[]
[]
[]
[]
[]
[null,"（３）別紙「学校給食用物資データ提出指示リスト」の食品に該当する物資について必要とする書類"]
[]
[]
[]
[]
[]
[]
[]
[]
[null,"（４）その他"]
[null,"　年度途中において必要に応じリスト指示以外の書類や、自社証明書に代わり改めて公的機関発行のものを求める"]
[null,"       場合がある。"]
[]
["２．","中国・九州地区学校給食会連絡協議会統一様式A表（A表－１及びA表－２）の記入要領について"]
[null,"（１）「規格」等の記入方法について"]
[null,"①「容量規格商品」は容量で記入するとともに、比重も記入し、重量換算した上で「正味重量又は固形量」記入欄にも重量単位"]
[null,"　　　で記入すること。"]
[null,"②「総量（固形量＋溶液）」は、缶詰製品やタレ付製品の場合に記入のこと。ボイリングパックなどはバラ単位での重量を記入のこと。"]
[null,"        （例：500ｇ袋10食入り・・・総量50ｇ　正味重量35ｇ　1袋入数10）"]
[null,"③「1ｋｇ又は1袋(ボール)単位の入数」は、kg物、袋物、ボール物(小箱)の場合は必ず記入。幅がある場合は○○～○○と記入。"]
[null,"（２）「栄養成分成績」の記入方法について"]
[null,"①栄養成分は数字で記入すること。日本食品標準成分表で使用されている［Tr］、［(Tr)］、［-］、[（0）] の記号も使用可能。"]
[null,"　　　実測していない項目は「空白」にし、計算値を記入すること。ゼロのものは「0」を記入し、空白と区別すること。"]
[null,"　　　実測値の場合は、［<］、[>]の記号も使用可能。"]
[null,"②高圧処理・油調された商品は公的検査実測値を、それ以外の商品は日本食品標準成分表計算値を記入すること。"]
[null,"③実測値及び計算値ともに入力がない場合は、計算値のセルが「赤く表示」し警告するので、入力漏れがないように全項目"]
[null,"       入力すること。"]
[null,"④各栄養価の桁数は日本食品標準成分表の版に準ずる。"]
[null,"⑤栄養成分成績書の数値は、その裏付けとなる資料が添付されていることを確認すること。"]
[]
[null,"（３）「原料配合」の記入方法について"]
[null,"①日本食品標準成分表食品番号"]
[null,"　・該当する食品番号（数字五桁）を記入すること。（例） ０５０１４ ： くるみ"]
[null,"　・該当しない食品の場合は空白で可能。"]
[null,"②原材料名"]
[null,"　・一括表示の内容・記載順序で記入し整合性を持たせること。"]
[null,"　・A表は外部に公表することを前提としているが、可能な限り詳細に記入のこと。必要以上に省略したり不明確な表現は避けること。 "]
[null,"　  （例） 香辛料、魚介エキス、調味料等の記入は下記記入例を参照のこと。"]
[null,"　・１行のセル内には１原料を記入し、当該原材料に見合った日本食品標準成分表食品番号、配合割合、産地名及び加工地（国）"]
[null,"　　を記入のこと。"]
[null,"③配合割合"]
[null,"　・数字のほか、［φ］、［Ｔｒ］、［－］、［微量］等の記号も使用可能。ゼロでも指定可能。"]
[null,"　・原料配合は必ず合計が100％になることを確認すること。"]
[null,"④産地名「①」（国内又は輸入又は国内・輸入）"]
[null,"　・「国内」か「輸入」か、又は混在であれば「国内・輸入」を選択すること。"]
[null,"　・産地は原材料の「産地」であり、「加工地」ではない。"]
[null,"⑤産地名「②」（広域・県又は外国名）"]
[null,"　・加工された原材料においては、原料の産地を全て記入すること。"]
[null,"　・産地名①で「国内」の場合は、「広域名」又は「県名」を記入のこと。（例）「南九州」、「宮崎県・熊本県」、「福岡県」"]
[null,"　・産地名①で「輸入」の場合は、「国名」又は「広域名」を記入のこと。（例）「アメリカ」、「ヨーロッパ」、「北太平洋」"]
[null,"⑥産地名「③」（限定地域又は州・省）"]
[null,"　・加工された原材料においては、原料の産地を全て記入すること。"]
[null,"　・産地名①で「国内」の場合は、「○○県・○○県」又は「○○市町村」又は「○○地区」を記入のこと。"]
[null,"　　（記入例）　「鹿児島県・宮崎県」、「福岡市」、「朝倉地区」"]
[null,"　・産地名①で「輸入」の場合は、該当国の「州、省、地区名」又は「国名」を記入のこと。"]
[null,"　　（記入例）　「カリフォルニア州」、「イタリア・フランス」、「アメリカ・カナダ」"]
[null,"⑦原材料の加工地"]
[null,"　・原材料の最終加工地の国名・地名等をA表入力シートに入力のこと。（A表には表示されない）"]
[]
[null,"　　(記入例）　香辛料、魚介エキス、調味料等の記入は下記例を参照のこと。"]
[]
[]
[]
[]
[]
[]
[]
[]
[]
[]
[]
[]
[]
[]
[]
[]
[null,"（４）「アレルギー表示」の記入方法について"]
[null,"①アレルギーの記入については、該当アレルギー物質名と由来原材料名等を記入すること。"]
[null,"②加工助剤・コンタミ・キャリーオーバーについては、該当アレルギー物質名と由来原材料名を記入すること。"]
[null,"　 混入経路等について、必要な場合は括弧書きで記入すること。"]
[null,"（例）"]
[]
[]
[]
[]
[]
[]
[]
[null,"・特定原材料及び特定原材料に準ずるものの表記は、食品表示法に基づく食品表示基準に従い記入すること。"]
[]
[null,"（５）「表示」の記入方法について"]
[null,"①JASマーク","「有」又は「無」を選択すること。"]
[null,"②認定マーク","冷凍食品にあっては、「有」又は「無」を選択すること。"]
[null,"③一括表示","冷凍食品にあっては、凍結前と喫食時の「加熱」又は「無加熱」を選択すること。"]
[]
[null,"（６）｢細菌検査」の記入方法について"]
[null,"　添付する細菌検査結果を記入すること。"]
[]
[null,"（７）「保存条件」の記入方法について"]
[null,"①保存形態","「冷凍」、「冷蔵」、「常温」又は「冷暗所」を選択すること。"]
[null,"②保存温度","適切な保存温度を記入すること。幅がある場合は○○～○○の記入で可能。"]
[null,null,"○○以下（以上）はリストから選択すること。"]
[null,"　　③賞味期間又は消費期限　　　　商品の賞味期間又は消費期限を選択すること。"]
[]
[null,"（８）「調理区分」の記入方法について・・・冷凍食品のみ記入"]
[null,"①調理区分「①」には、「揚」、「ボイル」、「蒸」、「煮」、「焼」、「炒」、「茹」、「スチコン」、「自然解凍」又は「その他」から"]
[null,"　　　　優先的な調理方法を選択すること。"]
[null,"②調理区分「②」から「④」には、調理区分「①」以外の調理方法があれば選択すること。"]
[]
[null,"（９）「商品説明」の記入方法について"]
[null,"　販売促進に利用するためできるだけ詳しく、またスペースを挟まずに記入すること。（おすすめメニュー等の情報も）"]
[]
[null,"（10）「調理方法」の記入方法について・・・全ての商品"]
[null,"　調理の温度、時間等できるだけ詳しく、またスペースを挟まずに記入すること。"]
[]
[null,"（1１）「個食包装材質」の記入方法について"]
[null,"　デザート等の個食物商品はゴミの分別が必要となる場合があるため、フタやカップ等の個食包材の材質名を記入してください。"]
[]
[]
[]
["学校給食用物資データ提出指示リスト"]
[null,null,null,null,"２０２３年３月一部改訂"]
["◎"," 「学校給食用物資データ提出指示リスト」の略号"]

{"sheet":"A表入力シート","index":1,"n_rows":240,"n_cols":8,"rows_kept":240,"cut":false,"hidden":false,"merged":[[45,2,45,5],[2,1,2,5],[3,1,3,5],[4,1,4,5],[12,2,12,3],[14,2,14,3],[31,2,31,4],[35,2,35,5],[37,1,38,1],[42,2,42,5],[96,0,97,0],[96,1,97,1],[96,2,97,2],[96,3,97,3],[46,1,47,1],[49,2,49,3],[54,1,55,5],[56,1,57,5],[84,1,84,7],[85,1,86,7],[87,1,87,7],[88,1,88,7],[89,1,91,7],[92,1,93,7],[94,1,94,7],[150,1,150,2],[151,1,151,2],[151,3,151,5],[151,6,151,7],[152,1,152,2],[152,3,153,5],[152,6,153,7],[154,3,154,5],[154,6,154,7],[155,3,155,5],[155,6,155,7],[156,3,156,5],[156,6,156,7],[157,3,157,5],[157,6,157,7],[158,3,158,5],[158,6,158,7],[159,3,159,5],[159,6,159,7],[160,3,160,5],[160,6,160,7],[161,3,161,5],[161,6,161,7],[162,3,162,5],[162,6,162,7],[163,3,163,5],[163,6,163,7],[164,3,164,5],[164,6,164,7],[165,3,165,5],[165,6,165,7],[166,6,166,7],[167,3,167,5],[167,6,167,7],[168,3,168,5],[168,6,168,7],[171,1,174,3],[183,1,184,1],[215,1,219,4],[226,1,229,4],[166,3,166,5]]}
["A表入力シート"]
["＜重要＞",null,"A表は外部に公表することを前提としていますが、可能な限り詳細に入力してください。必要以上に省略したり不明確な表現は避けてください。"]
[null,"★入力前にお読みください！\n\n※A表-1及びA表-2シートには直接入力できません。A表入力シートに必要事項を入力してください。\n※当該物資に必要な項目は、　　　　　　　　　　の中に入力してください。\n※項目の記入要領は、項目ごとに「説明」あるいは「プルダウンリスト」をつけていますので、指示通り入力してください。\n※特に、「原料配合の産地」、「アレルギー表示」等細心の注意を払い、記入お願いします。\n"]
[null,"★注意事項！\n※エクセルのファイル形式は.xlsmです。（サポート期限内のEXCEL使用）\n※規格違い（60gと80g等）の物資は、各々A表及びB表を提出してください！\n※各県への提出方法（「紙面」及び「電子ファイル」）は各県の指示に従ってください。\n\n※製造者入力クリアボタンを使用すると「製造者」、「取扱者」及び「作成者」以外の全データが削除されます。　\n\n\n\n\n　 取扱者入力クリアボタンを使用すると「取扱者」及び「作成者」以外の全データが削除されます。\n\n\n\n\n　各入力クリアボタンを使用した場合、全データを削除します。データは復元しません。 　※作成者は上記２つのボタンで残ります。"]
[null,"★電子ファイル提出時の「ファイル名」について　（A表・B表ファイル共通）\n① A表 （商品名の後にA表を入れる）・・・【 商品名A表】\n　　　　　　　　　　　　　　　　　　　　　　　　　　（「A」は半角大文字。物資名には規格（数字は半角・gは半角小文字）も含む）\n　　　　　　　　　　　　　　　　　　　　　　　　　　　　（例）ハンバーグ60gA表\n\n\n\n② B表 （商品名の後にB表を入れる）・・・【 商品名B表】\n　　　　　　　　　　　　　　　　　　　　　　　　　　（「B」は半角大文字。物資名には規格（数字は半角・gは半角小文字）も含む）   　　　　　\n　　　　　　　　　　　　　　　　　　　　　　　　　　　　（例）ハンバーグ60gB表"]
[]
[null,"※納入者記入欄"]
[]
[null,"１　作成日",null,"※月/日で入力ください。（YYYY年MM月DD日で表示）"]
[]
[null,"２　作成者"]
[]
[null,"３　品名",null,null,"※輸入品も日本語で商品を判別できるよう入力してください。"]
[]
[null,"４　銘柄"]
[]
[null,"５　正味重量又は固形量",null,"※容量規格商品（cc)は「７　容量規格商品の容量」に入力してください。重量換算しA表に表示されます。"]
[null,null,null,"※ボイルパックは「一食単位重量」を入力してください。"]
[null,"６　総量（固形量＋溶液）",null,"※缶詰類やタレ付きの商品の場合に総量を入力してください。"]
[null,null,null,"※総量において個食もののボイルパックは「一食単位」の固形量と溶液の合計重量を入力してください。　"]
[]
[null,"７　容量規格商品の容量",null,"cc"]
[null,"　　比重"]
[null,null,"※容量表示する場合、上下段に入力してください。"]
[]
[null,null,"端箱入数",null,"合数"]
[null,"８　ケース入数",null,"入/箱　　　　　　×",null,"合"]
[]
[null,"９　1ｋｇ又は1袋(ボール)単位の入数",null,"個"]
[]
[null,"１０　製造者"]
[null,"工場名"]
[null,"製造所固有記号",null,"※固有記号表示が無い場合は不要"]
[null,"所在地","郵便区番号（3桁）","町域番号（4桁）"]
[null,"〒",null,null,"※郵便番号は半角でも全角でも構いません。"]
[null,"住所"]
[null,"衛生監視票点数",null,"点"]
[null,"衛生監視票\n取得年月日","年","月","日"]
[]
[null,"HACCP"]
[]
[null,"１１　取扱者"]
[null,"社名"]
[null,"所在地","郵便区番号（3桁）","町域番号（4桁）"]
[null,"〒",null,null,"※郵便番号及び電話番号とも半角でも全角でも構いません。"]
[null,"住所"]
[null,"電話番号","市外局番","市内局番","加入者番号"]
[]
[null,"担当者"]
[null,"e-mail"]
[]
[null,"１２　栄養成分成績"]
[null,"　　※栄養成分は数字で記入してください。又、日本食品標準成分表で使用されている［Tr］、［(Tr)］、［-］、［（0）]の記号も使用可能とします。"]
[null,"　　※実測値の場合は、［<］、[>]の使用が可能。実測していない項目は「空白」にし、計算値を入力してください。"]
[null,"高圧処理・油調された商品の場合は、公的検査実測値を入力してください。実測していない項目は空白にしてください。\n各栄養価の桁数は日本食品標準成分表に準じます。"]
[]
[null,"日本食品標準成分表計算値を入力してください。各栄養価の桁数は日本食品標準成分表に準じます。\n実測値及び計算値が共に入力がない場合は、計算値のセルが「赤く表示」し警告します。\n入力漏れがないように全項目入力してください。"]
[]
[]
[null,null,"実測値","計算値"]
[null,"エネルギー",null,null,"kcal"]
[null,"水　　　分",null,null,"ｇ"]
[null,"たんぱく質",null,null,"ｇ"]
[null,"脂　　　質",null,null,"ｇ"]
[null,"炭水化物",null,null,"ｇ"]
[null,"灰　　　分",null,null,"ｇ"]
[null,"ナトリウム",null,null,"ｍｇ","※ナトリウム塩を使用していない場合に使用。それ以外は”－”を入力。"]
[null,"カリウム",null,null,"ｍｇ"]
[null,"カルシウム",null,null,"ｍｇ"]
[null,"マグネシウム",null,null,"ｍｇ"]
[null,"リン",null,null,"ｍｇ"]
[null,"鉄",null,null,"ｍｇ"]
[null,"亜　　　鉛",null,null,"ｍｇ"]
[null,"レチノール",null,null,"μｇ"]
[null,"β-カロテン当量",null,null,"μｇ"]
[null,"ﾚﾁﾉｰﾙ活性当量",null,null,"μｇ"]
[null,"ビタミンB1",null,null,"ｍｇ"]
[null,"ビタミンB2",null,null,"ｍｇ"]
[null,"ビタミンC",null,null,"ｍｇ"]
[null,"食物繊維総量",null,null,"ｇ"]
[null,"食塩相当量",null,null,"ｇ"]
[null,"廃棄率",null,null,"％"]
[]
[null,"１３　原料配合","※一括表示と内容・記載順序に整合性を持たせ記入してください。"]
[null,"１列　日本食品標準成分表食品コードを入力してください。（数字五桁）　　（例） 05014 ： くるみ　　　該当しない食品の場合は空白で可能。"]
[null,"２列　1行のセル内には１つの原料のみを記入し、当該原材料に見合った日本食品成分表食品番号、配合割合、産地名及び加工地（国）を入力してください。原材料名が長くセルに\n　　収まらなくても気にしないでください。　　　　（例） 香辛料、魚介エキス、調味料等の記入は記入要領の記入例を参照のこと。"]
[]
[null,"３列　数字のほか、［φ］、［Ｔｒ］、［－］、［微量］等の記号も使用可能です。ゼロでも指定可能です。"]
[null,"４列　リストから「国内」、「輸入」又は混在であれば「国内・輸入」を選択してください。　　　産地は原材料の「産地」であり、「加工地」ではありません。（加工地は「７列」に入力）"]
[null,"５列　加工された原材料においては、原料の産地を全て入力すること。\n　　　「国内」の場合・・・「広域名」又は　「県名」を入力。　（例）「南九州」、「宮崎県・鹿児島県」、「福岡県」\n　　　「輸入」の場合・・・「国名」又は「広域名」を入力。　　（例）「アメリカ」、「ヨーロッパ」、「北太平洋」"]
[]
[]
[null,"６列　「国内」の場合・・・「○○県・○○県」又は「○○市町村」又は「○○地区」を入力。　　（例）「鹿児島県・宮崎県」、「福岡市」、「朝倉地区」\n　　   「輸入」の場合・・・該当国の「州、省、地区名」又は「国名」を入力。　　　　　　　　　　   （例）「カリフォルニア州」、「イタリア・フランス」、「アメリカ・カナダ」"]
[]
[null,"７列　加工　原材料の最終加工地の国名、地名等を入力してください。　　A表には表示されません。"]
[null,"1列","2列","3列","4列","5列","6列","7列"]
["No","日本食品\n標準成分表\n食品番号","原　　材　　料　　名\n（一括表示の内容・記載\n順序で記入してください。）","配合\n割合\n（％）","産地名①","産地名②","産地名③","原材料の加工地"]
[null,null,null,null,"国内、又は\n輸入、又は\n国内・輸入","国内：広域名、県名\n輸入：国名、広域名","国内：県名、限定地域\n輸入：国名・州・省","原材料の最終加工国名等を入力してください。"]
[1]
[2]
[3]
[4]
[5]
[6]
[7]
[8]
[9]
[10]
[11]
[12]
[13]
[14]
[15]
[16]
[17]
[18]
[19]
[20]
[21]
[22]
[23]
[24]
[25]
[26]
[27]
[28]
[29]
[30]
[31]
[32]
[33]
[34]
[35]
[36]
[37]
[38]
[39]
[40]
[41]
[42]
[43]
[44]
[45]
[46]
[47]
[48]
[49]
[50]
[null,null,"計",{"$f":"SUM(D99:D148)","v":0}]
[null,null,null,"※必ず100％になっていることを確認してください！\n100％以外はセルが\n赤くなります。"]
[null,"１４　アレルギー表示"]
[null,"１．特定原材料、特定原材料に準ずるものをリスト\n　　から選択し、「２．由来原材料名等欄」を 必ず\n　　入力してください。",null,"２．アレルギー物質の由来原材料を記入してください。（記入要領参照）",null,null,"３．加工助剤、コンタミキャリーオーバー等に由来する場合は、記載の有無を分けて選択してください。"]
[null,"１．　アレルギー物質名",null,"２．　由来原材料名等\n（コンタミの場合は経路等を括弧書きで入力してください。）",null,null,"３．　加工助剤・コンタミ・キャリーオーバー等に由来するアレルギー物質のチェック欄"]
[null,"特定原材料","特定原材料に\n準ずるもの"]
[1]
[2]
[3]
[4]
[5]
[6]
[7]
[8]
[9]
[10]
[11]
[12]
[13]
[14]
[15]
[]
[null,"「※魚介類」と表示可能な対象"]
[null,"「たん白加水分解物（魚介類）」、\n「魚醤（魚介類）」、 「魚醤パウダー（魚介類）」、\n「魚肉すり身（魚介類）」、\n「魚油（魚介類）」、\n「魚介エキス（魚介類）]　等"]
[]
[]
[]
[]
[]
[null,"１５　製品表示"]
[null,"JASマーク",null,"※JAS品にあっては、JASマークの「有」、「無」をリストから選択してください。"]
[null,"認定マーク（冷凍食品）",null,"※冷凍食品にあっては、認定マークの「有」、「無」をリストから選択してください。"]
[null,null,null,"※上記にない製品表示の場合、その名称を入力し「有」、「無」をリストから選択してください。。"]
[]
[null,"１６　一括表示"]
[null,"冷凍食品","凍結前",null,"※冷凍食品にあっては、凍結前の「加熱」、「無加熱」をリストから選択してください。"]
[null,null,"喫食時",null,"※冷凍食品にあっては、喫食時の「加熱」、「無加熱」をリストから選択してください。"]
[]
[null,"１７　細菌検査","※入力する細菌検査結果は提出資料との整合性を確認してください。"]
[null,"一般細菌数",null,null,"※「以下」又は「空白」から選択してください。"]
[null,"又は",null,null,null,"乗"]
[null,"大腸菌群"]
[null,"黄色ブドウ球菌"]
[null,"E.coli"]
[null,"サルモネラ"]
[null,"腸管出血性大腸菌Ｏ-157"]
[null,null,null,"※上記にない検査項目及び検査結果を入力してください。"]
[null,null,null,"※　　　　　　　　　　　　〃"]
[null,null,null,"※　　　　　　　　　　　　〃"]
[]
[null,"１８　製品期間","年","月又は日","選択（「ヵ月」又は「日」）"]
[null,"賞味期限"]
[null,"又は","※商品の賞味期間又は消費期限を選択してください。"]
[null,"消費期限",null,"日"]
[]
[null,"１９　保存条件"]
[null,"①保存形態",null,"※商品の保存形態をリストから選択してください。"]
[null,"②保存温度",null,null,"※幅がある場合は○○～○○の入力が可能です。以下（以上）はリストから選択してください。"]
[null,null,null,null,"※「℃」は自動でA表に表示されるので、幅がある場合はその点を考慮して入力ください。"]
[null,"２０　冷凍食品調理区分","※冷凍食品以外の調理については「２２　調理方法」に記入ください。"]
[null,"①（冷凍食品のみ）",null,"※①には最も優先的な調理方法をリストから選択してください。"]
[null,"②（冷凍食品のみ）",null,"※調理区分②～④には①以外の調理方法があればリストから選択してください。"]
[null,"③（冷凍食品のみ）"]
[null,"④（冷凍食品のみ）"]
[]
[null,"２１　商品説明","※スペースを挟まずに、できるだけ詳しく記入してください。右下のプレビューで枠内に入っているか御確認ください。（改行はALT+ENTER）"]
[]
[]
[]
[]
[]
[]
[]
[]
[]
[]
[null,"２２　調理方法","※スペースを挟まずに、できるだけ詳しく記入してください。右上のプレビューで枠内に入っているか御確認ください。（改行はALT+ENTER）"]
[]
[]
[]
[]
[]
[]
[null,"２３　個食包装材質","※デザートや包み焼等はゴミの分別が必要となる場合があるため、フタやカップ等の個食包材の材質名を記入してください。　（例）フタ：プラ　　カップ：紙"]
[null,"部位","材質"]
[null,"フタ"]
[null,"カップ"]
[null,"スプーン"]
[null,"個食箱",null,"例：ケーキなど"]
[null,"個食袋",null,"例：シュークリーム、クレープなど"]
[null,null,null,"※上記に該当がない場合部位と材質に入力してください。例：包み焼の場合　→　（　部位 ： 包み　、　材質 ： アルミ　）"]
[null,null,null,"※上記に該当がない場合部位と材質に入力してください。"]

{"sheet":"A表 -1","index":2,"n_rows":56,"n_cols":13,"rows_kept":56,"cut":false,"hidden":false,"merged":[[0,11,0,12],[1,11,1,12],[3,2,3,8],[3,11,3,12],[4,2,4,8],[4,11,4,12],[6,2,6,8],[6,9,6,10],[6,11,6,12],[7,1,7,3],[7,4,7,7],[7,8,7,10],[7,11,7,12],[8,1,8,3],[8,4,8,7],[8,9,8,10],[9,1,11,1],[9,2,9,3],[9,4,9,9],[9,11,9,12],[10,2,10,3],[10,4,10,12],[11,2,11,3],[11,4,11,6],[11,8,11,9],[11,11,11,12],[12,1,14,1],[12,2,12,3],[12,4,12,11],[13,2,13,3],[13,4,13,9],[13,11,13,12],[14,2,14,3],[14,4,14,8],[14,10,14,12],[24,9,24,11],[16,1,16,4],[16,6,16,12],[17,1,17,4],[17,6,17,8],[17,9,18,11],[17,12,18,12],[19,9,19,11],[20,9,20,11],[21,9,21,11],[22,9,22,11],[23,9,23,11],[41,1,42,4],[25,9,25,11],[26,9,26,11],[27,9,27,11],[28,9,28,11],[29,9,29,11],[30,9,30,11],[31,9,31,11],[32,9,32,11],[33,9,33,11],[36,6,36,12],[37,6,41,12],[43,1,43,2],[43,6,43,8],[43,9,43,10],[43,11,43,12],[44,1,44,2],[44,3,44,4],[44,6,44,7],[49,1,49,2],[49,3,49,4],[49,6,49,12],[45,1,45,2],[45,3,45,4],[45,6,45,7],[46,1,46,2],[46,3,46,4],[46,6,46,7],[47,1,47,2],[47,3,47,4],[47,6,47,7],[48,1,48,2],[48,3,48,4],[55,1,55,2],[55,3,55,4],[55,6,55,7],[55,8,55,12],[50,1,50,2],[50,3,50,4],[50,6,54,12],[51,1,51,2],[51,3,51,4],[53,1,53,4],[54,1,54,2],[54,3,54,4]]}
[null,"中国・九州地区学校給食会連絡協議会統一様式（A表－１） ",null,null,null,null,null,null,null,null,null,"２０２３年３月改訂"]
[null,null,null,null,null,null,null,null,null,null,"給食会コード",{"$f":"給食会入力シート!D10","v":0}]
[]
[null,"給食会品名",{"$f":"給食会入力シート!I10","v":0},null,null,null,null,null,null,null,"作成日",{"$f":"IF(A表入力シート!C9=\"\",\"\",A表入力シート!C9)","v":""}]
[null,"品名",{"$f":"IF(A表入力シート!C13=\"\",\"\",A表入力シート!C13)","v":""},null,null,null,null,null,null,null,"作成者",{"$f":"IF(A表入力シート!C11=\"\",\"\",A表入力シート!C11)","v":""}]
[]
[null,"銘柄",{"$f":"IF(A表入力シート!C15=\"\",\"\",A表入力シート!C15)","v":""},null,null,null,null,null,null,"ケース入数",null,{"$f":"IF(A表入力シート!C27=\"\",\"\",IF(A表入力シート!E27=\"\",CONCATENATE(A表入力シート!C27,\"入/箱\"),CONCATENATE(A表入力シート!C27,\"入/箱 × \",A表入力シート!E27,\"合\")))","v":""}]
[null,"正味重量又は固形量",null,null,{"$f":"IF(A表入力シート!C17=\"\",ROUND(A表入力シート!C22*A表入力シート!C23,0),A表入力シート!C17)","v":0},null,null,null,"1ｋｇ又は1袋(ボール)単位の入数",null,null,{"$f":"IF(A表入力シート!C29=\"\",\"\",A表入力シート!C29)","v":""}]
[null,"総量（固形量＋溶液）",null,null,{"$f":"IF(A表入力シート!C19=\"\",\"\",A表入力シート!C19)","v":""},null,null,null,"容量規格",{"$f":"IF(A表入力シート!C22=\"\",\"\",A表入力シート!C22)","v":""},null,"比　　重",{"$f":"IF(A表入力シート!C23=\"\",\"\",A表入力シート!C23)","v":""}]
[null,"製造者","工場名",null,{"$f":"IF(A表入力シート!C32=\"\",\"\",A表入力シート!C32)","v":""},null,null,null,null,null,"製造所固有記号",{"$f":"A表入力シート!C33","v":0}]
[null,null,"住所",null,{"$f":"IF(A表入力シート!C36=\"\",\"\",IF(A表入力シート!C35=\"\",A表入力シート!C36,A表入力シート!B35&A表入力シート!C35&\"-\"&A表入力シート!D35&\"　　\"&A表入力シート!C36))","v":""}]
[null,null,"衛生監視票点数",null,{"$f":"IF(A表入力シート!C37=\"\",\"\",A表入力シート!C37)","v":""},null,null,"検査年月日",{"$f":"IF(A表入力シート!C39=\"\",\"\",20&IF(IF((CONCATENATE(A表入力シート!C39,\"年\",A表入力シート!D39,\"月\",A表入力シート!E39,\"日\"))=\"\",\"\",CONCATENATE(A表入力シート!C39,\"年\",A表入力シート!D39,\"月\",A表入力シート!E39,\"日\"))=\"\",\"\",IF((CONCATENATE(A表入力シート!C39,\"年\",A表入力シート!D39,\"月\",A表入力シート!E39,\"日\"))=\"\",\"\",CONCATENATE(A表入力シート!C39,\"年\",A表入力シート!D39,\"月\",A表入力シート!E39,\"日\"))))","v":""},null,"HACCP",{"$f":"IF(A表入力シート!C40=\"\",\"\",A表入力シート!C40)","v":""}]
[null,"取扱者","社名",null,{"$f":"IF(A表入力シート!C43=\"\",\"\",A表入力シート!C43)","v":""},null,null,null,null,null,null,null,"社印"]
[null,null,"住所",null,{"$f":"IF(A表入力シート!C46=\"\",\"\",IF(A表入力シート!C45=\"\",A表入力シート!C46,A表入力シート!B45&A表入力シート!C45&\"-\"&A表入力シート!D45&\"　\"&A表入力シート!C46))","v":""},null,null,null,null,null,"電話番号",{"$f":"IF(A表入力シート!E48=\"\",\"\",CONCATENATE(A表入力シート!C48,\"-\",A表入力シート!D48,\"-\",A表入力シート!E48))","v":""}]
[null,null,"担当者",null,{"$f":"IF(A表入力シート!C49=\"\",\"\",A表入力シート!C49)","v":""},null,null,null,null,"e-mail",{"$f":"IF(A表入力シート!C50=\"\",\"\",A表入力シート!C50)","v":""}]
[]
[null,"栄養成分成績",null,null,null,null,"アレルギー表示"]
[null,"※計算値は日本食品標準成分表を使用",null,null,null,null,"アレルギー物質名",null,null,"由来原材料名等",null,null,"※１\n（コンタミネーション等）"]
[null,null,"実測値","計算値",null,null,null,"特定原材料"," 特定原材料に\n 準ずるもの"]
[null,"エネルギー",{"$f":"IF(A表入力シート!C61>0,A表入力シート!C61,IF(ISBLANK(A表入力シート!C61)=TRUE,A表入力シート!C61,\"0\"))","v":0},{"$f":"IF(A表入力シート!D61>0,A表入力シート!D61,IF(ISBLANK(A表入力シート!D61)=TRUE,A表入力シート!D61,\"0\"))","v":0},"kcal",null,1,{"$f":"IF(A表入力シート!B155=\"\",\"\",A表入力シート!B155)","v":""},{"$f":"IF(A表入力シート!C155=\"\",\"\",A表入力シート!C155)","v":""},{"$f":"IF(AND(H20=\"\",I20=\"\"),\"\",IF(A表入力シート!D155=\"\",\"\",A表入力シート!D155))","v":""},null,null,{"$f":"IF(A表入力シート!G155=\"\",\"\",IF(A表入力シート!G155=\"ｺﾝﾀﾐﾈｰｼｮﾝに由来\",\"●\",IF(A表入力シート!G155=\"（一括表示枠内外　記載無し）ｺﾝﾀﾐﾈｰｼｮﾝに由来\",\"○\",IF(A表入力シート!G155=\"加工助剤に由来\",\"◆\",IF(A表入力シート!G155=\"（一括表示枠内外　記載無し）加工助剤に由来\",\"◇\",IF(A表入力シート!G155=\"ｷｬﾘｰｵｰﾊﾞｰに由来\",\"▲\",IF(A表入力シート!G155=\"（一括表示枠内外　記載無し）ｷｬﾘｰｵｰﾊﾞｰに由来\",\"△\",IF(A表入力シート!G155=\"その他\",\"＊\",\"\"))))))))","v":""}]
[null,"水　　　分",{"$f":"IF(A表入力シート!C62>0,A表入力シート!C62,IF(ISBLANK(A表入力シート!C62)=TRUE,A表入力シート!C62,\"0.0\"))","v":0},{"$f":"IF(A表入力シート!D62>0,A表入力シート!D62,IF(ISBLANK(A表入力シート!D62)=TRUE,A表入力シート!D62,\"0.0\"))","v":0},"ｇ",null,2,{"$f":"IF(A表入力シート!B156=\"\",\"\",A表入力シート!B156)","v":""},{"$f":"IF(A表入力シート!C156=\"\",\"\",A表入力シート!C156)","v":""},{"$f":"IF(AND(H21=\"\",I21=\"\"),\"\",IF(A表入力シート!D156=\"\",\"\",A表入力シート!D156))","v":""},null,null,{"$f":"IF(A表入力シート!G156=\"\",\"\",IF(A表入力シート!G156=\"ｺﾝﾀﾐﾈｰｼｮﾝに由来\",\"●\",IF(A表入力シート!G156=\"（一括表示枠内外　記載無し）ｺﾝﾀﾐﾈｰｼｮﾝに由来\",\"○\",IF(A表入力シート!G156=\"加工助剤に由来\",\"◆\",IF(A表入力シート!G156=\"（一括表示枠内外　記載無し）加工助剤に由来\",\"◇\",IF(A表入力シート!G156=\"ｷｬﾘｰｵｰﾊﾞｰに由来\",\"▲\",IF(A表入力シート!G156=\"（一括表示枠内外　記載無し）ｷｬﾘｰｵｰﾊﾞｰに由来\",\"△\",IF(A表入力シート!G156=\"その他\",\"＊\",\"\"))))))))","v":""}]
[null,"たんぱく質",{"$f":"IF(A表入力シート!C63>0,A表入力シート!C63,IF(ISBLANK(A表入力シート!C63)=TRUE,A表入力シート!C63,\"0.0\"))","v":0},{"$f":"IF(A表入力シート!D63>0,A表入力シート!D63,IF(ISBLANK(A表入力シート!D63)=TRUE,A表入力シート!D63,\"0.0\"))","v":0},"ｇ",null,3,{"$f":"IF(A表入力シート!B157=\"\",\"\",A表入力シート!B157)","v":""},{"$f":"IF(A表入力シート!C157=\"\",\"\",A表入力シート!C157)","v":""},{"$f":"IF(AND(H22=\"\",I22=\"\"),\"\",IF(A表入力シート!D157=\"\",\"\",A表入力シート!D157))","v":""},null,null,{"$f":"IF(A表入力シート!G157=\"\",\"\",IF(A表入力シート!G157=\"ｺﾝﾀﾐﾈｰｼｮﾝに由来\",\"●\",IF(A表入力シート!G157=\"（一括表示枠内外　記載無し）ｺﾝﾀﾐﾈｰｼｮﾝに由来\",\"○\",IF(A表入力シート!G157=\"加工助剤に由来\",\"◆\",IF(A表入力シート!G157=\"（一括表示枠内外　記載無し）加工助剤に由来\",\"◇\",IF(A表入力シート!G157=\"ｷｬﾘｰｵｰﾊﾞｰに由来\",\"▲\",IF(A表入力シート!G157=\"（一括表示枠内外　記載無し）ｷｬﾘｰｵｰﾊﾞｰに由来\",\"△\",IF(A表入力シート!G157=\"その他\",\"＊\",\"\"))))))))","v":""}]
[null,"脂　　　質",{"$f":"IF(A表入力シート!C64>0,A表入力シート!C64,IF(ISBLANK(A表入力シート!C64)=TRUE,A表入力シート!C64,\"0.0\"))","v":0},{"$f":"IF(A表入力シート!D64>0,A表入力シート!D64,IF(ISBLANK(A表入力シート!D64)=TRUE,A表入力シート!D64,\"0.0\"))","v":0},"ｇ",null,4,{"$f":"IF(A表入力シート!B158=\"\",\"\",A表入力シート!B158)","v":""},{"$f":"IF(A表入力シート!C158=\"\",\"\",A表入力シート!C158)","v":""},{"$f":"IF(AND(H23=\"\",I23=\"\"),\"\",IF(A表入力シート!D158=\"\",\"\",A表入力シート!D158))","v":""},null,null,{"$f":"IF(A表入力シート!G158=\"\",\"\",IF(A表入力シート!G158=\"ｺﾝﾀﾐﾈｰｼｮﾝに由来\",\"●\",IF(A表入力シート!G158=\"（一括表示枠内外　記載無し）ｺﾝﾀﾐﾈｰｼｮﾝに由来\",\"○\",IF(A表入力シート!G158=\"加工助剤に由来\",\"◆\",IF(A表入力シート!G158=\"（一括表示枠内外　記載無し）加工助剤に由来\",\"◇\",IF(A表入力シート!G158=\"ｷｬﾘｰｵｰﾊﾞｰに由来\",\"▲\",IF(A表入力シート!G158=\"（一括表示枠内外　記載無し）ｷｬﾘｰｵｰﾊﾞｰに由来\",\"△\",IF(A表入力シート!G158=\"その他\",\"＊\",\"\"))))))))","v":""}]
[null,"炭水化物",{"$f":"IF(A表入力シート!C65>0,A表入力シート!C65,IF(ISBLANK(A表入力シート!C65)=TRUE,A表入力シート!C65,\"0.0\"))","v":0},{"$f":"IF(A表入力シート!D65>0,A表入力シート!D65,IF(ISBLANK(A表入力シート!D65)=TRUE,A表入力シート!D65,\"0.0\"))","v":0},"ｇ",null,5,{"$f":"IF(A表入力シート!B159=\"\",\"\",A表入力シート!B159)","v":""},{"$f":"IF(A表入力シート!C159=\"\",\"\",A表入力シート!C159)","v":""},{"$f":"IF(AND(H24=\"\",I24=\"\"),\"\",IF(A表入力シート!D159=\"\",\"\",A表入力シート!D159))","v":""},null,null,{"$f":"IF(A表入力シート!G159=\"\",\"\",IF(A表入力シート!G159=\"ｺﾝﾀﾐﾈｰｼｮﾝに由来\",\"●\",IF(A表入力シート!G159=\"（一括表示枠内外　記載無し）ｺﾝﾀﾐﾈｰｼｮﾝに由来\",\"○\",IF(A表入力シート!G159=\"加工助剤に由来\",\"◆\",IF(A表入力シート!G159=\"（一括表示枠内外　記載無し）加工助剤に由来\",\"◇\",IF(A表入力シート!G159=\"ｷｬﾘｰｵｰﾊﾞｰに由来\",\"▲\",IF(A表入力シート!G159=\"（一括表示枠内外　記載無し）ｷｬﾘｰｵｰﾊﾞｰに由来\",\"△\",IF(A表入力シート!G159=\"その他\",\"＊\",\"\"))))))))","v":""}]
[null,"灰　　　分",{"$f":"IF(A表入力シート!C66>0,A表入力シート!C66,IF(ISBLANK(A表入力シート!C66)=TRUE,A表入力シート!C66,\"0.0\"))","v":0},{"$f":"IF(A表入力シート!D66>0,A表入力シート!D66,IF(ISBLANK(A表入力シート!D66)=TRUE,A表入力シート!D66,\"0.0\"))","v":0},"ｇ",null,6,{"$f":"IF(A表入力シート!B160=\"\",\"\",A表入力シート!B160)","v":""},{"$f":"IF(A表入力シート!C160=\"\",\"\",A表入力シート!C160)","v":""},{"$f":"IF(AND(H25=\"\",I25=\"\"),\"\",IF(A表入力シート!D160=\"\",\"\",A表入力シート!D160))","v":""},null,null,{"$f":"IF(A表入力シート!G160=\"\",\"\",IF(A表入力シート!G160=\"ｺﾝﾀﾐﾈｰｼｮﾝに由来\",\"●\",IF(A表入力シート!G160=\"（一括表示枠内外　記載無し）ｺﾝﾀﾐﾈｰｼｮﾝに由来\",\"○\",IF(A表入力シート!G160=\"加工助剤に由来\",\"◆\",IF(A表入力シート!G160=\"（一括表示枠内外　記載無し）加工助剤に由来\",\"◇\",IF(A表入力シート!G160=\"ｷｬﾘｰｵｰﾊﾞｰに由来\",\"▲\",IF(A表入力シート!G160=\"（一括表示枠内外　記載無し）ｷｬﾘｰｵｰﾊﾞｰに由来\",\"△\",IF(A表入力シート!G160=\"その他\",\"＊\",\"\"))))))))","v":""}]
[null,"ナトリウム",{"$f":"IF(A表入力シート!C67>0,A表入力シート!C67,IF(ISBLANK(A表入力シート!C67)=TRUE,A表入力シート!C67,\"0\"))","v":0},{"$f":"IF(A表入力シート!D67>0,A表入力シート!D67,IF(ISBLANK(A表入力シート!D67)=TRUE,A表入力シート!D67,\"0\"))","v":0},"ｍｇ",null,7,{"$f":"IF(A表入力シート!B161=\"\",\"\",A表入力シート!B161)","v":""},{"$f":"IF(A表入力シート!C161=\"\",\"\",A表入力シート!C161)","v":""},{"$f":"IF(AND(H26=\"\",I26=\"\"),\"\",IF(A表入力シート!D161=\"\",\"\",A表入力シート!D161))","v":""},null,null,{"$f":"IF(A表入力シート!G161=\"\",\"\",IF(A表入力シート!G161=\"ｺﾝﾀﾐﾈｰｼｮﾝに由来\",\"●\",IF(A表入力シート!G161=\"（一括表示枠内外　記載無し）ｺﾝﾀﾐﾈｰｼｮﾝに由来\",\"○\",IF(A表入力シート!G161=\"加工助剤に由来\",\"◆\",IF(A表入力シート!G161=\"（一括表示枠内外　記載無し）加工助剤に由来\",\"◇\",IF(A表入力シート!G161=\"ｷｬﾘｰｵｰﾊﾞｰに由来\",\"▲\",IF(A表入力シート!G161=\"（一括表示枠内外　記載無し）ｷｬﾘｰｵｰﾊﾞｰに由来\",\"△\",IF(A表入力シート!G161=\"その他\",\"＊\",\"\"))))))))","v":""}]
[null,"カリウム",{"$f":"IF(A表入力シート!C68>0,A表入力シート!C68,IF(ISBLANK(A表入力シート!C68)=TRUE,A表入力シート!C68,\"0\"))","v":0},{"$f":"IF(A表入力シート!D68>0,A表入力シート!D68,IF(ISBLANK(A表入力シート!D68)=TRUE,A表入力シート!D68,\"0\"))","v":0},"ｍｇ",null,8,{"$f":"IF(A表入力シート!B162=\"\",\"\",A表入力シート!B162)","v":""},{"$f":"IF(A表入力シート!C162=\"\",\"\",A表入力シート!C162)","v":""},{"$f":"IF(AND(H27=\"\",I27=\"\"),\"\",IF(A表入力シート!D162=\"\",\"\",A表入力シート!D162))","v":""},null,null,{"$f":"IF(A表入力シート!G162=\"\",\"\",IF(A表入力シート!G162=\"ｺﾝﾀﾐﾈｰｼｮﾝに由来\",\"●\",IF(A表入力シート!G162=\"（一括表示枠内外　記載無し）ｺﾝﾀﾐﾈｰｼｮﾝに由来\",\"○\",IF(A表入力シート!G162=\"加工助剤に由来\",\"◆\",IF(A表入力シート!G162=\"（一括表示枠内外　記載無し）加工助剤に由来\",\"◇\",IF(A表入力シート!G162=\"ｷｬﾘｰｵｰﾊﾞｰに由来\",\"▲\",IF(A表入力シート!G162=\"（一括表示枠内外　記載無し）ｷｬﾘｰｵｰﾊﾞｰに由来\",\"△\",IF(A表入力シート!G162=\"その他\",\"＊\",\"\"))))))))","v":""}]
[null,"カルシウム",{"$f":"IF(A表入力シート!C69>0,A表入力シート!C69,IF(ISBLANK(A表入力シート!C69)=TRUE,A表入力シート!C69,\"0\"))","v":0},{"$f":"IF(A表入力シート!D69>0,A表入力シート!D69,IF(ISBLANK(A表入力シート!D69)=TRUE,A表入力シート!D69,\"0\"))","v":0},"ｍｇ",null,9,{"$f":"IF(A表入力シート!B163=\"\",\"\",A表入力シート!B163)","v":""},{"$f":"IF(A表入力シート!C163=\"\",\"\",A表入力シート!C163)","v":""},{"$f":"IF(AND(H28=\"\",I28=\"\"),\"\",IF(A表入力シート!D163=\"\",\"\",A表入力シート!D163))","v":""},null,null,{"$f":"IF(A表入力シート!G163=\"\",\"\",IF(A表入力シート!G163=\"ｺﾝﾀﾐﾈｰｼｮﾝに由来\",\"●\",IF(A表入力シート!G163=\"（一括表示枠内外　記載無し）ｺﾝﾀﾐﾈｰｼｮﾝに由来\",\"○\",IF(A表入力シート!G163=\"加工助剤に由来\",\"◆\",IF(A表入力シート!G163=\"（一括表示枠内外　記載無し）加工助剤に由来\",\"◇\",IF(A表入力シート!G163=\"ｷｬﾘｰｵｰﾊﾞｰに由来\",\"▲\",IF(A表入力シート!G163=\"（一括表示枠内外　記載無し）ｷｬﾘｰｵｰﾊﾞｰに由来\",\"△\",IF(A表入力シート!G163=\"その他\",\"＊\",\"\"))))))))","v":""}]
[null,"マグネシウム",{"$f":"IF(A表入力シート!C70>0,A表入力シート!C70,IF(ISBLANK(A表入力シート!C70)=TRUE,A表入力シート!C70,\"0\"))","v":0},{"$f":"IF(A表入力シート!D70>0,A表入力シート!D70,IF(ISBLANK(A表入力シート!D70)=TRUE,A表入力シート!D70,\"0\"))","v":0},"ｍｇ",null,10,{"$f":"IF(A表入力シート!B164=\"\",\"\",A表入力シート!B164)","v":""},{"$f":"IF(A表入力シート!C164=\"\",\"\",A表入力シート!C164)","v":""},{"$f":"IF(AND(H29=\"\",I29=\"\"),\"\",IF(A表入力シート!D164=\"\",\"\",A表入力シート!D164))","v":""},null,null,{"$f":"IF(A表入力シート!G164=\"\",\"\",IF(A表入力シート!G164=\"ｺﾝﾀﾐﾈｰｼｮﾝに由来\",\"●\",IF(A表入力シート!G164=\"（一括表示枠内外　記載無し）ｺﾝﾀﾐﾈｰｼｮﾝに由来\",\"○\",IF(A表入力シート!G164=\"加工助剤に由来\",\"◆\",IF(A表入力シート!G164=\"（一括表示枠内外　記載無し）加工助剤に由来\",\"◇\",IF(A表入力シート!G164=\"ｷｬﾘｰｵｰﾊﾞｰに由来\",\"▲\",IF(A表入力シート!G164=\"（一括表示枠内外　記載無し）ｷｬﾘｰｵｰﾊﾞｰに由来\",\"△\",IF(A表入力シート!G164=\"その他\",\"＊\",\"\"))))))))","v":""}]
[null,"リン",{"$f":"IF(A表入力シート!C71>0,A表入力シート!C71,IF(ISBLANK(A表入力シート!C71)=TRUE,A表入力シート!C71,\"0\"))","v":0},{"$f":"IF(A表入力シート!D71>0,A表入力シート!D71,IF(ISBLANK(A表入力シート!D71)=TRUE,A表入力シート!D71,\"0\"))","v":0},"ｍｇ",null,11,{"$f":"IF(A表入力シート!B165=\"\",\"\",A表入力シート!B165)","v":""},{"$f":"IF(A表入力シート!C165=\"\",\"\",A表入力シート!C165)","v":""},{"$f":"IF(AND(H30=\"\",I30=\"\"),\"\",IF(A表入力シート!D165=\"\",\"\",A表入力シート!D165))","v":""},null,null,{"$f":"IF(A表入力シート!G165=\"\",\"\",IF(A表入力シート!G165=\"ｺﾝﾀﾐﾈｰｼｮﾝに由来\",\"●\",IF(A表入力シート!G165=\"（一括表示枠内外　記載無し）ｺﾝﾀﾐﾈｰｼｮﾝに由来\",\"○\",IF(A表入力シート!G165=\"加工助剤に由来\",\"◆\",IF(A表入力シート!G165=\"（一括表示枠内外　記載無し）加工助剤に由来\",\"◇\",IF(A表入力シート!G165=\"ｷｬﾘｰｵｰﾊﾞｰに由来\",\"▲\",IF(A表入力シート!G165=\"（一括表示枠内外　記載無し）ｷｬﾘｰｵｰﾊﾞｰに由来\",\"△\",IF(A表入力シート!G165=\"その他\",\"＊\",\"\"))))))))","v":""}]
[null,"鉄",{"$f":"IF(A表入力シート!C72>0,A表入力シート!C72,IF(ISBLANK(A表入力シート!C72)=TRUE,A表入力シート!C72,\"0.0\"))","v":0},{"$f":"IF(A表入力シート!D72>0,A表入力シート!D72,IF(ISBLANK(A表入力シート!D72)=TRUE,A表入力シート!D72,\"0.0\"))","v":0},"ｍｇ",null,12,{"$f":"IF(A表入力シート!B166=\"\",\"\",A表入力シート!B166)","v":""},{"$f":"IF(A表入力シート!C166=\"\",\"\",A表入力シート!C166)","v":""},{"$f":"IF(AND(H31=\"\",I31=\"\"),\"\",IF(A表入力シート!D166=\"\",\"\",A表入力シート!D166))","v":""},null,null,{"$f":"IF(A表入力シート!G166=\"\",\"\",IF(A表入力シート!G166=\"ｺﾝﾀﾐﾈｰｼｮﾝに由来\",\"●\",IF(A表入力シート!G166=\"（一括表示枠内外　記載無し）ｺﾝﾀﾐﾈｰｼｮﾝに由来\",\"○\",IF(A表入力シート!G166=\"加工助剤に由来\",\"◆\",IF(A表入力シート!G166=\"（一括表示枠内外　記載無し）加工助剤に由来\",\"◇\",IF(A表入力シート!G166=\"ｷｬﾘｰｵｰﾊﾞｰに由来\",\"▲\",IF(A表入力シート!G166=\"（一括表示枠内外　記載無し）ｷｬﾘｰｵｰﾊﾞｰに由来\",\"△\",IF(A表入力シート!G166=\"その他\",\"＊\",\"\"))))))))","v":""}]
[null,"亜　　　鉛",{"$f":"IF(A表入力シート!C73>0,A表入力シート!C73,IF(ISBLANK(A表入力シート!C73)=TRUE,A表入力シート!C73,\"0.0\"))","v":0},{"$f":"IF(A表入力シート!D73>0,A表入力シート!D73,IF(ISBLANK(A表入力シート!D73)=TRUE,A表入力シート!D73,\"0.0\"))","v":0},"ｍｇ",null,13,{"$f":"IF(A表入力シート!B167=\"\",\"\",A表入力シート!B167)","v":""},{"$f":"IF(A表入力シート!C167=\"\",\"\",A表入力シート!C167)","v":""},{"$f":"IF(AND(H32=\"\",I32=\"\"),\"\",IF(A表入力シート!D167=\"\",\"\",A表入力シート!D167))","v":""},null,null,{"$f":"IF(A表入力シート!G167=\"\",\"\",IF(A表入力シート!G167=\"ｺﾝﾀﾐﾈｰｼｮﾝに由来\",\"●\",IF(A表入力シート!G167=\"（一括表示枠内外　記載無し）ｺﾝﾀﾐﾈｰｼｮﾝに由来\",\"○\",IF(A表入力シート!G167=\"加工助剤に由来\",\"◆\",IF(A表入力シート!G167=\"（一括表示枠内外　記載無し）加工助剤に由来\",\"◇\",IF(A表入力シート!G167=\"ｷｬﾘｰｵｰﾊﾞｰに由来\",\"▲\",IF(A表入力シート!G167=\"（一括表示枠内外　記載無し）ｷｬﾘｰｵｰﾊﾞｰに由来\",\"△\",IF(A表入力シート!G167=\"その他\",\"＊\",\"\"))))))))","v":""}]
[null,"レチノール",{"$f":"IF(A表入力シート!C74>0,A表入力シート!C74,IF(ISBLANK(A表入力シート!C74)=TRUE,A表入力シート!C74,\"0\"))","v":0},{"$f":"IF(A表入力シート!D74>0,A表入力シート!D74,IF(ISBLANK(A表入力シート!D74)=TRUE,A表入力シート!D74,\"0\"))","v":0},"μｇ",null,14,{"$f":"IF(A表入力シート!B168=\"\",\"\",A表入力シート!B168)","v":""},{"$f":"IF(A表入力シート!C168=\"\",\"\",A表入力シート!C168)","v":""},{"$f":"IF(AND(H33=\"\",I33=\"\"),\"\",IF(A表入力シート!D168=\"\",\"\",A表入力シート!D168))","v":""},null,null,{"$f":"IF(A表入力シート!G168=\"\",\"\",IF(A表入力シート!G168=\"ｺﾝﾀﾐﾈｰｼｮﾝに由来\",\"●\",IF(A表入力シート!G168=\"（一括表示枠内外　記載無し）ｺﾝﾀﾐﾈｰｼｮﾝに由来\",\"○\",IF(A表入力シート!G168=\"加工助剤に由来\",\"◆\",IF(A表入力シート!G168=\"（一括表示枠内外　記載無し）加工助剤に由来\",\"◇\",IF(A表入力シート!G168=\"ｷｬﾘｰｵｰﾊﾞｰに由来\",\"▲\",IF(A表入力シート!G168=\"（一括表示枠内外　記載無し）ｷｬﾘｰｵｰﾊﾞｰに由来\",\"△\",IF(A表入力シート!G168=\"その他\",\"＊\",\"\"))))))))","v":""}]
[null,"β-カロテン当量",{"$f":"IF(A表入力シート!C75>0,A表入力シート!C75,IF(ISBLANK(A表入力シート!C75)=TRUE,A表入力シート!C75,\"0\"))","v":0},{"$f":"IF(A表入力シート!D75>0,A表入力シート!D75,IF(ISBLANK(A表入力シート!D75)=TRUE,A表入力シート!D75,\"0\"))","v":0},"μｇ",null,15,{"$f":"IF(A表入力シート!B169=\"\",\"\",A表入力シート!B169)","v":""},{"$f":"IF(A表入力シート!C169=\"\",\"\",A表入力シート!C169)","v":""},{"$f":"IF(AND(H34=\"\",I34=\"\"),\"\",IF(A表入力シート!D169=\"\",\"\",A表入力シート!D169))","v":""},null,null,{"$f":"IF(A表入力シート!G169=\"\",\"\",IF(A表入力シート!G169=\"ｺﾝﾀﾐﾈｰｼｮﾝに由来\",\"●\",IF(A表入力シート!G169=\"（一括表示枠内外　記載無し）ｺﾝﾀﾐﾈｰｼｮﾝに由来\",\"○\",IF(A表入力シート!G169=\"加工助剤に由来\",\"◆\",IF(A表入力シート!G169=\"（一括表示枠内外　記載無し）加工助剤に由来\",\"◇\",IF(A表入力シート!G169=\"ｷｬﾘｰｵｰﾊﾞｰに由来\",\"▲\",IF(A表入力シート!G169=\"（一括表示枠内外　記載無し）ｷｬﾘｰｵｰﾊﾞｰに由来\",\"△\",IF(A表入力シート!G169=\"その他\",\"＊\",\"\"))))))))","v":""}]
[null,"ﾚﾁﾉｰﾙ活性当量",{"$f":"IF(A表入力シート!C76>0,A表入力シート!C76,IF(ISBLANK(A表入力シート!C76)=TRUE,A表入力シート!C76,\"0\"))","v":0},{"$f":"IF(A表入力シート!D76>0,A表入力シート!D76,IF(ISBLANK(A表入力シート!D76)=TRUE,A表入力シート!D76,\"0\"))","v":0},"μｇ",null,"※１","ｺﾝﾀﾐﾈｰｼｮﾝ：●（枠内外記載無し○）、加工助剤：◆（枠内外記載無し◇）"]
[null,"ビタミンB1",{"$f":"IF(A表入力シート!C77>0,A表入力シート!C77,IF(ISBLANK(A表入力シート!C77)=TRUE,A表入力シート!C77,\"0.00\"))","v":0},{"$f":"IF(A表入力シート!D77>0,A表入力シート!D77,IF(ISBLANK(A表入力シート!D77)=TRUE,A表入力シート!D77,\"0.00\"))","v":0},"ｍｇ",null,null,"ｷｬﾘｰｵｰﾊﾞｰ：▲（枠内外記載無し△）、その他：＊"]
[null,"ビタミンB2",{"$f":"IF(A表入力シート!C78>0,A表入力シート!C78,IF(ISBLANK(A表入力シート!C78)=TRUE,A表入力シート!C78,\"0.00\"))","v":0},{"$f":"IF(A表入力シート!D78>0,A表入力シート!D78,IF(ISBLANK(A表入力シート!D78)=TRUE,A表入力シート!D78,\"0.00\"))","v":0},"ｍｇ",null,"商品説明"]
[null,"ビタミンC",{"$f":"IF(A表入力シート!C79>0,A表入力シート!C79,IF(ISBLANK(A表入力シート!C79)=TRUE,A表入力シート!C79,\"0\"))","v":0},{"$f":"IF(A表入力シート!D79>0,A表入力シート!D79,IF(ISBLANK(A表入力シート!D79)=TRUE,A表入力シート!D79,\"0\"))","v":0},"ｍｇ",null,{"$f":"IF(A表入力シート!$B$216=\"\",\"\",A表入力シート!$B$216)","v":""}]
[null,"食物繊維総量",{"$f":"IF(A表入力シート!C80>0,A表入力シート!C80,IF(ISBLANK(A表入力シート!C80)=TRUE,A表入力シート!C80,\"0.0\"))","v":0},{"$f":"IF(A表入力シート!D80>0,A表入力シート!D80,IF(ISBLANK(A表入力シート!D80)=TRUE,A表入力シート!D80,\"0.0\"))","v":0},"ｇ"]
[null,"食塩相当量",{"$f":"IF(A表入力シート!C81>0,A表入力シート!C81,IF(ISBLANK(A表入力シート!C81)=TRUE,A表入力シート!C81,\"0.0\"))","v":0},{"$f":"IF(A表入力シート!D81>0,A表入力シート!D81,IF(ISBLANK(A表入力シート!D81)=TRUE,A表入力シート!D81,\"0.0\"))","v":0},"ｇ"]
[null,"廃棄率",{"$f":"IF(A表入力シート!C82>0,A表入力シート!C82,IF(ISBLANK(A表入力シート!C82)=TRUE,A表入力シート!C82,\"0\"))","v":0},{"$f":"IF(A表入力シート!D82>0,A表入力シート!D82,IF(ISBLANK(A表入力シート!D82)=TRUE,A表入力シート!D82,\"0\"))","v":0},"％"]
[null,"細菌検査"]
[]
[null,"一般細菌数",null,{"$f":"IF(AND(A表入力シート!C188=\"\",A表入力シート!C189=\"\")=TRUE,\"\",IF(A表入力シート!C189=\"\",CONCATENATE(A表入力シート!C188,A表入力シート!D188),IF(A表入力シート!C189-INT(A表入力シート!C189)=0,CONCATENATE(A表入力シート!C189,\".0\",\"×\",A表入力シート!D189),CONCATENATE(A表入力シート!C189,\"×\",A表入力シート!D189))))","v":""},{"$f":"IF(A表入力シート!C189=\"\",\"\",IF(AND(A表入力シート!C188=\"\",A表入力シート!C189=\"\")=TRUE,\"\",IF(A表入力シート!D189=\"\",\"\",A表入力シート!E189)))","v":""},null,"保存条件",null,null,"品質表示",null,"冷凍食品調理区分"]
[null,"大腸菌群",null,{"$f":"IF(A表入力シート!C190=\"\",\"\",A表入力シート!C190)","v":""},null,null,"保存形態",null,{"$f":"IF(A表入力シート!C205=\"\",\"\",A表入力シート!C205)","v":""},"JASマーク",{"$f":"IF(A表入力シート!C179=\"\",\"\",A表入力シート!C179)","v":""},"調理区分①",{"$f":"IF(A表入力シート!C209=\"\",\"\",A表入力シート!C209)","v":""}]
[null,"黄色ブドウ球菌",null,{"$f":"IF(A表入力シート!C191=\"\",\"\",A表入力シート!C191)","v":""},null,null,"保存温度",null,{"$f":"IF(A表入力シート!C206=\"\",\"\",A表入力シート!C206&\"℃\"&A表入力シート!D206)","v":""},"認定マーク",{"$f":"IF(A表入力シート!C180=\"\",\"\",A表入力シート!C180)","v":""},"調理区分②",{"$f":"IF(A表入力シート!C210=\"\",\"\",A表入力シート!C210)","v":""}]
[null,"E.coli",null,{"$f":"IF(A表入力シート!C192=\"\",\"\",A表入力シート!C192)","v":""},null,null,"賞味期間",null,{"$f":"IF(AND(A表入力シート!C200=\"\",A表入力シート!D200=\"\")=TRUE,\"\",IF(A表入力シート!C200=\"\",CONCATENATE(A表入力シート!D200,A表入力シート!E200),CONCATENATE(A表入力シート!C200,\"年\",IF(A表入力シート!D200=\"\",\"\",CONCATENATE(A表入力シート!D200,A表入力シート!E200)))))","v":""},{"$f":"IF(A表入力シート!B181=\"\",\"\",A表入力シート!B181)","v":""},{"$f":"IF(A表入力シート!C181=\"\",\"\",A表入力シート!C181)","v":""},"調理区分③",{"$f":"IF(A表入力シート!C211=\"\",\"\",A表入力シート!C211)","v":""}]
[null,"サルモネラ",null,{"$f":"IF(A表入力シート!C193=\"\",\"\",A表入力シート!C193)","v":""},null,null,"消費期限",null,{"$f":"IF(A表入力シート!C202=\"\",\"\",A表入力シート!C202)","v":""},null,null,"調理区分④",{"$f":"IF(A表入力シート!C212=\"\",\"\",A表入力シート!C212)","v":""}]
[null,"腸管出血性大腸菌Ｏ-157",null,{"$f":"IF(A表入力シート!C194=\"\",\"\",A表入力シート!C194)","v":""}]
[null,{"$f":"A表入力シート!B195","v":0},null,{"$f":"A表入力シート!C195","v":0},null,null,"調理方法"]
[null,{"$f":"A表入力シート!B196","v":0},null,{"$f":"A表入力シート!C196","v":0},null,null,{"$f":"A表入力シート!B227","v":0}]
[null,{"$f":"A表入力シート!B197","v":0},null,{"$f":"A表入力シート!C197","v":0}]
[]
[null,"一括表示"]
[null,"凍結前",null,{"$f":"IF(A表入力シート!D184=\"\",\"\",A表入力シート!D184)","v":""}]
[null,"喫食時",null,{"$f":"IF(A表入力シート!D185=\"\",\"\",A表入力シート!D185)","v":""},null,null,"個食包装材質",null,{"$f":"IF(AND(A表入力シート!C234=\"\",A表入力シート!C235=\"\",A表入力シート!C236=\"\",A表入力シート!C237=\"\",A表入力シート!C238=\"\",A表入力シート!C239=\"\",A表入力シート!C240=\"\")=TRUE,\"\",CONCATENATE('リスト（非表示）'!B283,'リスト（非表示）'!B284,'リスト（非表示）'!B285,'リスト（非表示）'!B286,'リスト（非表示）'!B287,'リスト（非表示）'!B288,'リスト（非表示）'!B289))","v":""}]

{"sheet":"A表-2","index":3,"n_rows":60,"n_cols":8,"rows_kept":60,"cut":false,"hidden":false,"merged":[[6,1,6,7],[7,1,8,1],[7,2,8,2],[7,3,8,3],[7,4,8,4],[3,1,3,2],[3,3,3,4],[4,1,4,2],[4,3,4,4],[4,9,4,12]]}
[null,"中国・九州地区学校給食会連絡協議会統一様式（A表－２）",null,null,null,null,null,"２０２３年３月改訂"]
[null,null,null,null,null,null,"給食会コード",{"$f":"給食会入力シート!D10","v":0}]
[]
[null,"給食会品名",null,{"$f":"給食会入力シート!I10","v":0},null,null,"作成日",{"$f":"IF('A表 -1'!L4=\"\",\"\",'A表 -1'!L4)","v":""}]
[null,"品　　　　 名",null,{"$f":"A表入力シート!C13","v":0},null,null,"作成者",{"$f":"A表入力シート!C11","v":"00:00:00"}]
[]
[null,"原料配合"]
[null,"No","日本食品\n標準\n成分表\n食品番号","原材料名","配合\n割合\n（％）","産地名①","産地名②","産地名③"]
[null,null,null,null,null,"国内、又は\n輸入、又は\n国内・輸入","国内：広域名、県名\n輸入：国名、広域名","国内：県名、限定地域\n輸入：国名・州・省"]
[null,1,{"$f":"IF(A表入力シート!B99=\"\",\"\",A表入力シート!B99)","v":""},{"$f":"IF(A表入力シート!C99=\"\",\"\",A表入力シート!C99)","v":""},{"$f":"IF(A表入力シート!D99>0,A表入力シート!D99,IF(ISBLANK(A表入力シート!D99)=TRUE,A表入力シート!D99,\"0\"))","v":0},{"$f":"IF(A表入力シート!E99=\"\",\"\",A表入力シート!E99)","v":""},{"$f":"IF(A表入力シート!F99=\"\",\"\",A表入力シート!F99)","v":""},{"$f":"IF(A表入力シート!G99=\"\",\"\",A表入力シート!G99)","v":""}]
[null,2,{"$f":"IF(A表入力シート!B100=\"\",\"\",A表入力シート!B100)","v":""},{"$f":"IF(A表入力シート!C100=\"\",\"\",A表入力シート!C100)","v":""},{"$f":"IF(A表入力シート!D100>0,A表入力シート!D100,IF(ISBLANK(A表入力シート!D100)=TRUE,A表入力シート!D100,\"0\"))","v":0},{"$f":"IF(A表入力シート!E100=\"\",\"\",A表入力シート!E100)","v":""},{"$f":"IF(A表入力シート!F100=\"\",\"\",A表入力シート!F100)","v":""},{"$f":"IF(A表入力シート!G100=\"\",\"\",A表入力シート!G100)","v":""}]
[null,3,{"$f":"IF(A表入力シート!B101=\"\",\"\",A表入力シート!B101)","v":""},{"$f":"IF(A表入力シート!C101=\"\",\"\",A表入力シート!C101)","v":""},{"$f":"IF(A表入力シート!D101>0,A表入力シート!D101,IF(ISBLANK(A表入力シート!D101)=TRUE,A表入力シート!D101,\"0\"))","v":0},{"$f":"IF(A表入力シート!E101=\"\",\"\",A表入力シート!E101)","v":""},{"$f":"IF(A表入力シート!F101=\"\",\"\",A表入力シート!F101)","v":""},{"$f":"IF(A表入力シート!G101=\"\",\"\",A表入力シート!G101)","v":""}]
[null,4,{"$f":"IF(A表入力シート!B102=\"\",\"\",A表入力シート!B102)","v":""},{"$f":"IF(A表入力シート!C102=\"\",\"\",A表入力シート!C102)","v":""},{"$f":"IF(A表入力シート!D102>0,A表入力シート!D102,IF(ISBLANK(A表入力シート!D102)=TRUE,A表入力シート!D102,\"0\"))","v":0},{"$f":"IF(A表入力シート!E102=\"\",\"\",A表入力シート!E102)","v":""},{"$f":"IF(A表入力シート!F102=\"\",\"\",A表入力シート!F102)","v":""},{"$f":"IF(A表入力シート!G102=\"\",\"\",A表入力シート!G102)","v":""}]
[null,5,{"$f":"IF(A表入力シート!B103=\"\",\"\",A表入力シート!B103)","v":""},{"$f":"IF(A表入力シート!C103=\"\",\"\",A表入力シート!C103)","v":""},{"$f":"IF(A表入力シート!D103>0,A表入力シート!D103,IF(ISBLANK(A表入力シート!D103)=TRUE,A表入力シート!D103,\"0\"))","v":0},{"$f":"IF(A表入力シート!E103=\"\",\"\",A表入力シート!E103)","v":""},{"$f":"IF(A表入力シート!F103=\"\",\"\",A表入力シート!F103)","v":""},{"$f":"IF(A表入力シート!G103=\"\",\"\",A表入力シート!G103)","v":""}]
[null,6,{"$f":"IF(A表入力シート!B104=\"\",\"\",A表入力シート!B104)","v":""},{"$f":"IF(A表入力シート!C104=\"\",\"\",A表入力シート!C104)","v":""},{"$f":"IF(A表入力シート!D104>0,A表入力シート!D104,IF(ISBLANK(A表入力シート!D104)=TRUE,A表入力シート!D104,\"0\"))","v":0},{"$f":"IF(A表入力シート!E104=\"\",\"\",A表入力シート!E104)","v":""},{"$f":"IF(A表入力シート!F104=\"\",\"\",A表入力シート!F104)","v":""},{"$f":"IF(A表入力シート!G104=\"\",\"\",A表入力シート!G104)","v":""}]
[null,7,{"$f":"IF(A表入力シート!B105=\"\",\"\",A表入力シート!B105)","v":""},{"$f":"IF(A表入力シート!C105=\"\",\"\",A表入力シート!C105)","v":""},{"$f":"IF(A表入力シート!D105>0,A表入力シート!D105,IF(ISBLANK(A表入力シート!D105)=TRUE,A表入力シート!D105,\"0\"))","v":0},{"$f":"IF(A表入力シート!E105=\"\",\"\",A表入力シート!E105)","v":""},{"$f":"IF(A表入力シート!F105=\"\",\"\",A表入力シート!F105)","v":""},{"$f":"IF(A表入力シート!G105=\"\",\"\",A表入力シート!G105)","v":""}]
[null,8,{"$f":"IF(A表入力シート!B106=\"\",\"\",A表入力シート!B106)","v":""},{"$f":"IF(A表入力シート!C106=\"\",\"\",A表入力シート!C106)","v":""},{"$f":"IF(A表入力シート!D106>0,A表入力シート!D106,IF(ISBLANK(A表入力シート!D106)=TRUE,A表入力シート!D106,\"0\"))","v":0},{"$f":"IF(A表入力シート!E106=\"\",\"\",A表入力シート!E106)","v":""},{"$f":"IF(A表入力シート!F106=\"\",\"\",A表入力シート!F106)","v":""},{"$f":"IF(A表入力シート!G106=\"\",\"\",A表入力シート!G106)","v":""}]
[null,9,{"$f":"IF(A表入力シート!B107=\"\",\"\",A表入力シート!B107)","v":""},{"$f":"IF(A表入力シート!C107=\"\",\"\",A表入力シート!C107)","v":""},{"$f":"IF(A表入力シート!D107>0,A表入力シート!D107,IF(ISBLANK(A表入力シート!D107)=TRUE,A表入力シート!D107,\"0\"))","v":0},{"$f":"IF(A表入力シート!E107=\"\",\"\",A表入力シート!E107)","v":""},{"$f":"IF(A表入力シート!F107=\"\",\"\",A表入力シート!F107)","v":""},{"$f":"IF(A表入力シート!G107=\"\",\"\",A表入力シート!G107)","v":""}]
[null,10,{"$f":"IF(A表入力シート!B108=\"\",\"\",A表入力シート!B108)","v":""},{"$f":"IF(A表入力シート!C108=\"\",\"\",A表入力シート!C108)","v":""},{"$f":"IF(A表入力シート!D108>0,A表入力シート!D108,IF(ISBLANK(A表入力シート!D108)=TRUE,A表入力シート!D108,\"0\"))","v":0},{"$f":"IF(A表入力シート!E108=\"\",\"\",A表入力シート!E108)","v":""},{"$f":"IF(A表入力シート!F108=\"\",\"\",A表入力シート!F108)","v":""},{"$f":"IF(A表入力シート!G108=\"\",\"\",A表入力シート!G108)","v":""}]
[null,11,{"$f":"IF(A表入力シート!B109=\"\",\"\",A表入力シート!B109)","v":""},{"$f":"IF(A表入力シート!C109=\"\",\"\",A表入力シート!C109)","v":""},{"$f":"IF(A表入力シート!D109>0,A表入力シート!D109,IF(ISBLANK(A表入力シート!D109)=TRUE,A表入力シート!D109,\"0\"))","v":0},{"$f":"IF(A表入力シート!E109=\"\",\"\",A表入力シート!E109)","v":""},{"$f":"IF(A表入力シート!F109=\"\",\"\",A表入力シート!F109)","v":""},{"$f":"IF(A表入力シート!G109=\"\",\"\",A表入力シート!G109)","v":""}]
[null,12,{"$f":"IF(A表入力シート!B110=\"\",\"\",A表入力シート!B110)","v":""},{"$f":"IF(A表入力シート!C110=\"\",\"\",A表入力シート!C110)","v":""},{"$f":"IF(A表入力シート!D110>0,A表入力シート!D110,IF(ISBLANK(A表入力シート!D110)=TRUE,A表入力シート!D110,\"0\"))","v":0},{"$f":"IF(A表入力シート!E110=\"\",\"\",A表入力シート!E110)","v":""},{"$f":"IF(A表入力シート!F110=\"\",\"\",A表入力シート!F110)","v":""},{"$f":"IF(A表入力シート!G110=\"\",\"\",A表入力シート!G110)","v":""}]
[null,13,{"$f":"IF(A表入力シート!B111=\"\",\"\",A表入力シート!B111)","v":""},{"$f":"IF(A表入力シート!C111=\"\",\"\",A表入力シート!C111)","v":""},{"$f":"IF(A表入力シート!D111>0,A表入力シート!D111,IF(ISBLANK(A表入力シート!D111)=TRUE,A表入力シート!D111,\"0\"))","v":0},{"$f":"IF(A表入力シート!E111=\"\",\"\",A表入力シート!E111)","v":""},{"$f":"IF(A表入力シート!F111=\"\",\"\",A表入力シート!F111)","v":""},{"$f":"IF(A表入力シート!G111=\"\",\"\",A表入力シート!G111)","v":""}]
[null,14,{"$f":"IF(A表入力シート!B112=\"\",\"\",A表入力シート!B112)","v":""},{"$f":"IF(A表入力シート!C112=\"\",\"\",A表入力シート!C112)","v":""},{"$f":"IF(A表入力シート!D112>0,A表入力シート!D112,IF(ISBLANK(A表入力シート!D112)=TRUE,A表入力シート!D112,\"0\"))","v":0},{"$f":"IF(A表入力シート!E112=\"\",\"\",A表入力シート!E112)","v":""},{"$f":"IF(A表入力シート!F112=\"\",\"\",A表入力シート!F112)","v":""},{"$f":"IF(A表入力シート!G112=\"\",\"\",A表入力シート!G112)","v":""}]
[null,15,{"$f":"IF(A表入力シート!B113=\"\",\"\",A表入力シート!B113)","v":""},{"$f":"IF(A表入力シート!C113=\"\",\"\",A表入力シート!C113)","v":""},{"$f":"IF(A表入力シート!D113>0,A表入力シート!D113,IF(ISBLANK(A表入力シート!D113)=TRUE,A表入力シート!D113,\"0\"))","v":0},{"$f":"IF(A表入力シート!E113=\"\",\"\",A表入力シート!E113)","v":""},{"$f":"IF(A表入力シート!F113=\"\",\"\",A表入力シート!F113)","v":""},{"$f":"IF(A表入力シート!G113=\"\",\"\",A表入力シート!G113)","v":""}]
[null,16,{"$f":"IF(A表入力シート!B114=\"\",\"\",A表入力シート!B114)","v":""},{"$f":"IF(A表入力シート!C114=\"\",\"\",A表入力シート!C114)","v":""},{"$f":"IF(A表入力シート!D114>0,A表入力シート!D114,IF(ISBLANK(A表入力シート!D114)=TRUE,A表入力シート!D114,\"0\"))","v":0},{"$f":"IF(A表入力シート!E114=\"\",\"\",A表入力シート!E114)","v":""},{"$f":"IF(A表入力シート!F114=\"\",\"\",A表入力シート!F114)","v":""},{"$f":"IF(A表入力シート!G114=\"\",\"\",A表入力シート!G114)","v":""}]
[null,17,{"$f":"IF(A表入力シート!B115=\"\",\"\",A表入力シート!B115)","v":""},{"$f":"IF(A表入力シート!C115=\"\",\"\",A表入力シート!C115)","v":""},{"$f":"IF(A表入力シート!D115>0,A表入力シート!D115,IF(ISBLANK(A表入力シート!D115)=TRUE,A表入力シート!D115,\"0\"))","v":0},{"$f":"IF(A表入力シート!E115=\"\",\"\",A表入力シート!E115)","v":""},{"$f":"IF(A表入力シート!F115=\"\",\"\",A表入力シート!F115)","v":""},{"$f":"IF(A表入力シート!G115=\"\",\"\",A表入力シート!G115)","v":""}]
[null,18,{"$f":"IF(A表入力シート!B116=\"\",\"\",A表入力シート!B116)","v":""},{"$f":"IF(A表入力シート!C116=\"\",\"\",A表入力シート!C116)","v":""},{"$f":"IF(A表入力シート!D116>0,A表入力シート!D116,IF(ISBLANK(A表入力シート!D116)=TRUE,A表入力シート!D116,\"0\"))","v":0},{"$f":"IF(A表入力シート!E116=\"\",\"\",A表入力シート!E116)","v":""},{"$f":"IF(A表入力シート!F116=\"\",\"\",A表入力シート!F116)","v":""},{"$f":"IF(A表入力シート!G116=\"\",\"\",A表入力シート!G116)","v":""}]
[null,19,{"$f":"IF(A表入力シート!B117=\"\",\"\",A表入力シート!B117)","v":""},{"$f":"IF(A表入力シート!C117=\"\",\"\",A表入力シート!C117)","v":""},{"$f":"IF(A表入力シート!D117>0,A表入力シート!D117,IF(ISBLANK(A表入力シート!D117)=TRUE,A表入力シート!D117,\"0\"))","v":0},{"$f":"IF(A表入力シート!E117=\"\",\"\",A表入力シート!E117)","v":""},{"$f":"IF(A表入力シート!F117=\"\",\"\",A表入力シート!F117)","v":""},{"$f":"IF(A表入力シート!G117=\"\",\"\",A表入力シート!G117)","v":""}]
[null,20,{"$f":"IF(A表入力シート!B118=\"\",\"\",A表入力シート!B118)","v":""},{"$f":"IF(A表入力シート!C118=\"\",\"\",A表入力シート!C118)","v":""},{"$f":"IF(A表入力シート!D118>0,A表入力シート!D118,IF(ISBLANK(A表入力シート!D118)=TRUE,A表入力シート!D118,\"0\"))","v":0},{"$f":"IF(A表入力シート!E118=\"\",\"\",A表入力シート!E118)","v":""},{"$f":"IF(A表入力シート!F118=\"\",\"\",A表入力シート!F118)","v":""},{"$f":"IF(A表入力シート!G118=\"\",\"\",A表入力シート!G118)","v":""}]
[null,21,{"$f":"IF(A表入力シート!B119=\"\",\"\",A表入力シート!B119)","v":""},{"$f":"IF(A表入力シート!C119=\"\",\"\",A表入力シート!C119)","v":""},{"$f":"IF(A表入力シート!D119>0,A表入力シート!D119,IF(ISBLANK(A表入力シート!D119)=TRUE,A表入力シート!D119,\"0\"))","v":0},{"$f":"IF(A表入力シート!E119=\"\",\"\",A表入力シート!E119)","v":""},{"$f":"IF(A表入力シート!F119=\"\",\"\",A表入力シート!F119)","v":""},{"$f":"IF(A表入力シート!G119=\"\",\"\",A表入力シート!G119)","v":""}]
[null,22,{"$f":"IF(A表入力シート!B120=\"\",\"\",A表入力シート!B120)","v":""},{"$f":"IF(A表入力シート!C120=\"\",\"\",A表入力シート!C120)","v":""},{"$f":"IF(A表入力シート!D120>0,A表入力シート!D120,IF(ISBLANK(A表入力シート!D120)=TRUE,A表入力シート!D120,\"0\"))","v":0},{"$f":"IF(A表入力シート!E120=\"\",\"\",A表入力シート!E120)","v":""},{"$f":"IF(A表入力シート!F120=\"\",\"\",A表入力シート!F120)","v":""},{"$f":"IF(A表入力シート!G120=\"\",\"\",A表入力シート!G120)","v":""}]
[null,23,{"$f":"IF(A表入力シート!B121=\"\",\"\",A表入力シート!B121)","v":""},{"$f":"IF(A表入力シート!C121=\"\",\"\",A表入力シート!C121)","v":""},{"$f":"IF(A表入力シート!D121>0,A表入力シート!D121,IF(ISBLANK(A表入力シート!D121)=TRUE,A表入力シート!D121,\"0\"))","v":0},{"$f":"IF(A表入力シート!E121=\"\",\"\",A表入力シート!E121)","v":""},{"$f":"IF(A表入力シート!F121=\"\",\"\",A表入力シート!F121)","v":""},{"$f":"IF(A表入力シート!G121=\"\",\"\",A表入力シート!G121)","v":""}]
[null,24,{"$f":"IF(A表入力シート!B122=\"\",\"\",A表入力シート!B122)","v":""},{"$f":"IF(A表入力シート!C122=\"\",\"\",A表入力シート!C122)","v":""},{"$f":"IF(A表入力シート!D122>0,A表入力シート!D122,IF(ISBLANK(A表入力シート!D122)=TRUE,A表入力シート!D122,\"0\"))","v":0},{"$f":"IF(A表入力シート!E122=\"\",\"\",A表入力シート!E122)","v":""},{"$f":"IF(A表入力シート!F122=\"\",\"\",A表入力シート!F122)","v":""},{"$f":"IF(A表入力シート!G122=\"\",\"\",A表入力シート!G122)","v":""}]
[null,25,{"$f":"IF(A表入力シート!B123=\"\",\"\",A表入力シート!B123)","v":""},{"$f":"IF(A表入力シート!C123=\"\",\"\",A表入力シート!C123)","v":""},{"$f":"IF(A表入力シート!D123>0,A表入力シート!D123,IF(ISBLANK(A表入力シート!D123)=TRUE,A表入力シート!D123,\"0\"))","v":0},{"$f":"IF(A表入力シート!E123=\"\",\"\",A表入力シート!E123)","v":""},{"$f":"IF(A表入力シート!F123=\"\",\"\",A表入力シート!F123)","v":""},{"$f":"IF(A表入力シート!G123=\"\",\"\",A表入力シート!G123)","v":""}]
[null,26,{"$f":"IF(A表入力シート!B124=\"\",\"\",A表入力シート!B124)","v":""},{"$f":"IF(A表入力シート!C124=\"\",\"\",A表入力シート!C124)","v":""},{"$f":"IF(A表入力シート!D124>0,A表入力シート!D124,IF(ISBLANK(A表入力シート!D124)=TRUE,A表入力シート!D124,\"0\"))","v":0},{"$f":"IF(A表入力シート!E124=\"\",\"\",A表入力シート!E124)","v":""},{"$f":"IF(A表入力シート!F124=\"\",\"\",A表入力シート!F124)","v":""},{"$f":"IF(A表入力シート!G124=\"\",\"\",A表入力シート!G124)","v":""}]
[null,27,{"$f":"IF(A表入力シート!B125=\"\",\"\",A表入力シート!B125)","v":""},{"$f":"IF(A表入力シート!C125=\"\",\"\",A表入力シート!C125)","v":""},{"$f":"IF(A表入力シート!D125>0,A表入力シート!D125,IF(ISBLANK(A表入力シート!D125)=TRUE,A表入力シート!D125,\"0\"))","v":0},{"$f":"IF(A表入力シート!E125=\"\",\"\",A表入力シート!E125)","v":""},{"$f":"IF(A表入力シート!F125=\"\",\"\",A表入力シート!F125)","v":""},{"$f":"IF(A表入力シート!G125=\"\",\"\",A表入力シート!G125)","v":""}]
[null,28,{"$f":"IF(A表入力シート!B126=\"\",\"\",A表入力シート!B126)","v":""},{"$f":"IF(A表入力シート!C126=\"\",\"\",A表入力シート!C126)","v":""},{"$f":"IF(A表入力シート!D126>0,A表入力シート!D126,IF(ISBLANK(A表入力シート!D126)=TRUE,A表入力シート!D126,\"0\"))","v":0},{"$f":"IF(A表入力シート!E126=\"\",\"\",A表入力シート!E126)","v":""},{"$f":"IF(A表入力シート!F126=\"\",\"\",A表入力シート!F126)","v":""},{"$f":"IF(A表入力シート!G126=\"\",\"\",A表入力シート!G126)","v":""}]
[null,29,{"$f":"IF(A表入力シート!B127=\"\",\"\",A表入力シート!B127)","v":""},{"$f":"IF(A表入力シート!C127=\"\",\"\",A表入力シート!C127)","v":""},{"$f":"IF(A表入力シート!D127>0,A表入力シート!D127,IF(ISBLANK(A表入力シート!D127)=TRUE,A表入力シート!D127,\"0\"))","v":0},{"$f":"IF(A表入力シート!E127=\"\",\"\",A表入力シート!E127)","v":""},{"$f":"IF(A表入力シート!F127=\"\",\"\",A表入力シート!F127)","v":""},{"$f":"IF(A表入力シート!G127=\"\",\"\",A表入力シート!G127)","v":""}]
[null,30,{"$f":"IF(A表入力シート!B128=\"\",\"\",A表入力シート!B128)","v":""},{"$f":"IF(A表入力シート!C128=\"\",\"\",A表入力シート!C128)","v":""},{"$f":"IF(A表入力シート!D128>0,A表入力シート!D128,IF(ISBLANK(A表入力シート!D128)=TRUE,A表入力シート!D128,\"0\"))","v":0},{"$f":"IF(A表入力シート!E128=\"\",\"\",A表入力シート!E128)","v":""},{"$f":"IF(A表入力シート!F128=\"\",\"\",A表入力シート!F128)","v":""},{"$f":"IF(A表入力シート!G128=\"\",\"\",A表入力シート!G128)","v":""}]
[null,31,{"$f":"IF(A表入力シート!B129=\"\",\"\",A表入力シート!B129)","v":""},{"$f":"IF(A表入力シート!C129=\"\",\"\",A表入力シート!C129)","v":""},{"$f":"IF(A表入力シート!D129>0,A表入力シート!D129,IF(ISBLANK(A表入力シート!D129)=TRUE,A表入力シート!D129,\"0\"))","v":0},{"$f":"IF(A表入力シート!E129=\"\",\"\",A表入力シート!E129)","v":""},{"$f":"IF(A表入力シート!F129=\"\",\"\",A表入力シート!F129)","v":""},{"$f":"IF(A表入力シート!G129=\"\",\"\",A表入力シート!G129)","v":""}]
[null,32,{"$f":"IF(A表入力シート!B130=\"\",\"\",A表入力シート!B130)","v":""},{"$f":"IF(A表入力シート!C130=\"\",\"\",A表入力シート!C130)","v":""},{"$f":"IF(A表入力シート!D130>0,A表入力シート!D130,IF(ISBLANK(A表入力シート!D130)=TRUE,A表入力シート!D130,\"0\"))","v":0},{"$f":"IF(A表入力シート!E130=\"\",\"\",A表入力シート!E130)","v":""},{"$f":"IF(A表入力シート!F130=\"\",\"\",A表入力シート!F130)","v":""},{"$f":"IF(A表入力シート!G130=\"\",\"\",A表入力シート!G130)","v":""}]
[null,33,{"$f":"IF(A表入力シート!B131=\"\",\"\",A表入力シート!B131)","v":""},{"$f":"IF(A表入力シート!C131=\"\",\"\",A表入力シート!C131)","v":""},{"$f":"IF(A表入力シート!D131>0,A表入力シート!D131,IF(ISBLANK(A表入力シート!D131)=TRUE,A表入力シート!D131,\"0\"))","v":0},{"$f":"IF(A表入力シート!E131=\"\",\"\",A表入力シート!E131)","v":""},{"$f":"IF(A表入力シート!F131=\"\",\"\",A表入力シート!F131)","v":""},{"$f":"IF(A表入力シート!G131=\"\",\"\",A表入力シート!G131)","v":""}]
[null,34,{"$f":"IF(A表入力シート!B132=\"\",\"\",A表入力シート!B132)","v":""},{"$f":"IF(A表入力シート!C132=\"\",\"\",A表入力シート!C132)","v":""},{"$f":"IF(A表入力シート!D132>0,A表入力シート!D132,IF(ISBLANK(A表入力シート!D132)=TRUE,A表入力シート!D132,\"0\"))","v":0},{"$f":"IF(A表入力シート!E132=\"\",\"\",A表入力シート!E132)","v":""},{"$f":"IF(A表入力シート!F132=\"\",\"\",A表入力シート!F132)","v":""},{"$f":"IF(A表入力シート!G132=\"\",\"\",A表入力シート!G132)","v":""}]
[null,35,{"$f":"IF(A表入力シート!B133=\"\",\"\",A表入力シート!B133)","v":""},{"$f":"IF(A表入力シート!C133=\"\",\"\",A表入力シート!C133)","v":""},{"$f":"IF(A表入力シート!D133>0,A表入力シート!D133,IF(ISBLANK(A表入力シート!D133)=TRUE,A表入力シート!D133,\"0\"))","v":0},{"$f":"IF(A表入力シート!E133=\"\",\"\",A表入力シート!E133)","v":""},{"$f":"IF(A表入力シート!F133=\"\",\"\",A表入力シート!F133)","v":""},{"$f":"IF(A表入力シート!G133=\"\",\"\",A表入力シート!G133)","v":""}]
[null,36,{"$f":"IF(A表入力シート!B134=\"\",\"\",A表入力シート!B134)","v":""},{"$f":"IF(A表入力シート!C134=\"\",\"\",A表入力シート!C134)","v":""},{"$f":"IF(A表入力シート!D134>0,A表入力シート!D134,IF(ISBLANK(A表入力シート!D134)=TRUE,A表入力シート!D134,\"0\"))","v":0},{"$f":"IF(A表入力シート!E134=\"\",\"\",A表入力シート!E134)","v":""},{"$f":"IF(A表入力シート!F134=\"\",\"\",A表入力シート!F134)","v":""},{"$f":"IF(A表入力シート!G134=\"\",\"\",A表入力シート!G134)","v":""}]
[null,37,{"$f":"IF(A表入力シート!B135=\"\",\"\",A表入力シート!B135)","v":""},{"$f":"IF(A表入力シート!C135=\"\",\"\",A表入力シート!C135)","v":""},{"$f":"IF(A表入力シート!D135>0,A表入力シート!D135,IF(ISBLANK(A表入力シート!D135)=TRUE,A表入力シート!D135,\"0\"))","v":0},{"$f":"IF(A表入力シート!E135=\"\",\"\",A表入力シート!E135)","v":""},{"$f":"IF(A表入力シート!F135=\"\",\"\",A表入力シート!F135)","v":""},{"$f":"IF(A表入力シート!G135=\"\",\"\",A表入力シート!G135)","v":""}]
[null,38,{"$f":"IF(A表入力シート!B136=\"\",\"\",A表入力シート!B136)","v":""},{"$f":"IF(A表入力シート!C136=\"\",\"\",A表入力シート!C136)","v":""},{"$f":"IF(A表入力シート!D136>0,A表入力シート!D136,IF(ISBLANK(A表入力シート!D136)=TRUE,A表入力シート!D136,\"0\"))","v":0},{"$f":"IF(A表入力シート!E136=\"\",\"\",A表入力シート!E136)","v":""},{"$f":"IF(A表入力シート!F136=\"\",\"\",A表入力シート!F136)","v":""},{"$f":"IF(A表入力シート!G136=\"\",\"\",A表入力シート!G136)","v":""}]
[null,39,{"$f":"IF(A表入力シート!B137=\"\",\"\",A表入力シート!B137)","v":""},{"$f":"IF(A表入力シート!C137=\"\",\"\",A表入力シート!C137)","v":""},{"$f":"IF(A表入力シート!D137>0,A表入力シート!D137,IF(ISBLANK(A表入力シート!D137)=TRUE,A表入力シート!D137,\"0\"))","v":0},{"$f":"IF(A表入力シート!E137=\"\",\"\",A表入力シート!E137)","v":""},{"$f":"IF(A表入力シート!F137=\"\",\"\",A表入力シート!F137)","v":""},{"$f":"IF(A表入力シート!G137=\"\",\"\",A表入力シート!G137)","v":""}]
[null,40,{"$f":"IF(A表入力シート!B138=\"\",\"\",A表入力シート!B138)","v":""},{"$f":"IF(A表入力シート!C138=\"\",\"\",A表入力シート!C138)","v":""},{"$f":"IF(A表入力シート!D138>0,A表入力シート!D138,IF(ISBLANK(A表入力シート!D138)=TRUE,A表入力シート!D138,\"0\"))","v":0},{"$f":"IF(A表入力シート!E138=\"\",\"\",A表入力シート!E138)","v":""},{"$f":"IF(A表入力シート!F138=\"\",\"\",A表入力シート!F138)","v":""},{"$f":"IF(A表入力シート!G138=\"\",\"\",A表入力シート!G138)","v":""}]
[null,41,{"$f":"IF(A表入力シート!B139=\"\",\"\",A表入力シート!B139)","v":""},{"$f":"IF(A表入力シート!C139=\"\",\"\",A表入力シート!C139)","v":""},{"$f":"IF(A表入力シート!D139>0,A表入力シート!D139,IF(ISBLANK(A表入力シート!D139)=TRUE,A表入力シート!D139,\"0\"))","v":0},{"$f":"IF(A表入力シート!E139=\"\",\"\",A表入力シート!E139)","v":""},{"$f":"IF(A表入力シート!F139=\"\",\"\",A表入力シート!F139)","v":""},{"$f":"IF(A表入力シート!G139=\"\",\"\",A表入力シート!G139)","v":""}]
[null,42,{"$f":"IF(A表入力シート!B140=\"\",\"\",A表入力シート!B140)","v":""},{"$f":"IF(A表入力シート!C140=\"\",\"\",A表入力シート!C140)","v":""},{"$f":"IF(A表入力シート!D140>0,A表入力シート!D140,IF(ISBLANK(A表入力シート!D140)=TRUE,A表入力シート!D140,\"0\"))","v":0},{"$f":"IF(A表入力シート!E140=\"\",\"\",A表入力シート!E140)","v":""},{"$f":"IF(A表入力シート!F140=\"\",\"\",A表入力シート!F140)","v":""},{"$f":"IF(A表入力シート!G140=\"\",\"\",A表入力シート!G140)","v":""}]
[null,43,{"$f":"IF(A表入力シート!B141=\"\",\"\",A表入力シート!B141)","v":""},{"$f":"IF(A表入力シート!C141=\"\",\"\",A表入力シート!C141)","v":""},{"$f":"IF(A表入力シート!D141>0,A表入力シート!D141,IF(ISBLANK(A表入力シート!D141)=TRUE,A表入力シート!D141,\"0\"))","v":0},{"$f":"IF(A表入力シート!E141=\"\",\"\",A表入力シート!E141)","v":""},{"$f":"IF(A表入力シート!F141=\"\",\"\",A表入力シート!F141)","v":""},{"$f":"IF(A表入力シート!G141=\"\",\"\",A表入力シート!G141)","v":""}]
[null,44,{"$f":"IF(A表入力シート!B142=\"\",\"\",A表入力シート!B142)","v":""},{"$f":"IF(A表入力シート!C142=\"\",\"\",A表入力シート!C142)","v":""},{"$f":"IF(A表入力シート!D142>0,A表入力シート!D142,IF(ISBLANK(A表入力シート!D142)=TRUE,A表入力シート!D142,\"0\"))","v":0},{"$f":"IF(A表入力シート!E142=\"\",\"\",A表入力シート!E142)","v":""},{"$f":"IF(A表入力シート!F142=\"\",\"\",A表入力シート!F142)","v":""},{"$f":"IF(A表入力シート!G142=\"\",\"\",A表入力シート!G142)","v":""}]
[null,45,{"$f":"IF(A表入力シート!B143=\"\",\"\",A表入力シート!B143)","v":""},{"$f":"IF(A表入力シート!C143=\"\",\"\",A表入力シート!C143)","v":""},{"$f":"IF(A表入力シート!D143>0,A表入力シート!D143,IF(ISBLANK(A表入力シート!D143)=TRUE,A表入力シート!D143,\"0\"))","v":0},{"$f":"IF(A表入力シート!E143=\"\",\"\",A表入力シート!E143)","v":""},{"$f":"IF(A表入力シート!F143=\"\",\"\",A表入力シート!F143)","v":""},{"$f":"IF(A表入力シート!G143=\"\",\"\",A表入力シート!G143)","v":""}]
[null,46,{"$f":"IF(A表入力シート!B144=\"\",\"\",A表入力シート!B144)","v":""},{"$f":"IF(A表入力シート!C144=\"\",\"\",A表入力シート!C144)","v":""},{"$f":"IF(A表入力シート!D144>0,A表入力シート!D144,IF(ISBLANK(A表入力シート!D144)=TRUE,A表入力シート!D144,\"0\"))","v":0},{"$f":"IF(A表入力シート!E144=\"\",\"\",A表入力シート!E144)","v":""},{"$f":"IF(A表入力シート!F144=\"\",\"\",A表入力シート!F144)","v":""},{"$f":"IF(A表入力シート!G144=\"\",\"\",A表入力シート!G144)","v":""}]
[null,47,{"$f":"IF(A表入力シート!B145=\"\",\"\",A表入力シート!B145)","v":""},{"$f":"IF(A表入力シート!C145=\"\",\"\",A表入力シート!C145)","v":""},{"$f":"IF(A表入力シート!D145>0,A表入力シート!D145,IF(ISBLANK(A表入力シート!D145)=TRUE,A表入力シート!D145,\"0\"))","v":0},{"$f":"IF(A表入力シート!E145=\"\",\"\",A表入力シート!E145)","v":""},{"$f":"IF(A表入力シート!F145=\"\",\"\",A表入力シート!F145)","v":""},{"$f":"IF(A表入力シート!G145=\"\",\"\",A表入力シート!G145)","v":""}]
[null,48,{"$f":"IF(A表入力シート!B146=\"\",\"\",A表入力シート!B146)","v":""},{"$f":"IF(A表入力シート!C146=\"\",\"\",A表入力シート!C146)","v":""},{"$f":"IF(A表入力シート!D146>0,A表入力シート!D146,IF(ISBLANK(A表入力シート!D146)=TRUE,A表入力シート!D146,\"0\"))","v":0},{"$f":"IF(A表入力シート!E146=\"\",\"\",A表入力シート!E146)","v":""},{"$f":"IF(A表入力シート!F146=\"\",\"\",A表入力シート!F146)","v":""},{"$f":"IF(A表入力シート!G146=\"\",\"\",A表入力シート!G146)","v":""}]
[null,49,{"$f":"IF(A表入力シート!B147=\"\",\"\",A表入力シート!B147)","v":""},{"$f":"IF(A表入力シート!C147=\"\",\"\",A表入力シート!C147)","v":""},{"$f":"IF(A表入力シート!D147>0,A表入力シート!D147,IF(ISBLANK(A表入力シート!D147)=TRUE,A表入力シート!D147,\"0\"))","v":0},{"$f":"IF(A表入力シート!E147=\"\",\"\",A表入力シート!E147)","v":""},{"$f":"IF(A表入力シート!F147=\"\",\"\",A表入力シート!F147)","v":""},{"$f":"IF(A表入力シート!G147=\"\",\"\",A表入力シート!G147)","v":""}]
[null,50,{"$f":"IF(A表入力シート!B148=\"\",\"\",A表入力シート!B148)","v":""},{"$f":"IF(A表入力シート!C148=\"\",\"\",A表入力シート!C148)","v":""},{"$f":"IF(A表入力シート!D148>0,A表入力シート!D148,IF(ISBLANK(A表入力シート!D148)=TRUE,A表入力シート!D148,\"0\"))","v":0},{"$f":"IF(A表入力シート!E148=\"\",\"\",A表入力シート!E148)","v":""},{"$f":"IF(A表入力シート!F148=\"\",\"\",A表入力シート!F148)","v":""},{"$f":"IF(A表入力シート!G148=\"\",\"\",A表入力シート!G148)","v":""}]
[null,null,null,"計",{"$f":"SUM(E10:E59)","v":0}]

{"sheet":"給食会入力シート","index":4,"n_rows":71,"n_cols":15,"rows_kept":71,"cut":false,"hidden":false,"merged":[[0,1,0,14],[1,10,1,11],[1,12,1,14],[4,1,4,2],[4,3,4,10],[4,11,4,13],[5,1,5,2],[5,3,5,10],[5,11,5,13],[6,1,6,2],[6,7,6,8],[6,9,6,10],[6,11,6,13],[6,3,6,6],[9,1,9,2],[9,3,9,5],[9,6,9,7],[9,8,9,14],[12,1,12,2],[12,3,12,14],[15,1,15,4],[15,5,15,7],[16,1,16,2],[16,5,16,6],[16,7,16,8],[16,11,16,12],[16,13,16,14],[17,1,17,2],[17,3,17,4],[17,5,17,8],[17,10,17,12],[17,13,17,14],[16,9,16,10],[23,1,23,3],[23,5,23,6],[24,1,24,3],[25,1,25,3],[19,1,19,3],[20,1,20,3],[20,6,20,14],[21,1,21,3],[21,5,21,7],[22,1,22,3],[22,5,22,7]]}
[null,"給食会入力シート（補足情報）"]
[null,null,null,null," ",null,null,null,null,null,"登録日"]
[]
[null,"１．物資情報（「Ａ表－１」より自動で表示されます）"]
[null,"品名",null,{"$f":"IF(A表入力シート!C13=\"\",\"\",A表入力シート!C13)","v":""},null,null,null,null,null,null,null,"正味重量又は固形量",null,null,{"$f":"IF('A表 -1'!E8=0,\"\",'A表 -1'!E8)","v":""}]
[null,"取扱者",null,{"$f":"IF(A表入力シート!C43=\"\",\"\",A表入力シート!C43)","v":""},null,null,null,null,null,null,null,"総量（固形量＋溶液）",null,null,{"$f":"IF(A表入力シート!C19=\"\",\"\",A表入力シート!C19)","v":""}]
[null,"ケース入数",null,{"$f":"IF('A表 -1'!L7=\"\",\"\",'A表 -1'!L7)","v":""},null,null,null,"1kg・1袋の入数",null,{"$f":"IF(A表入力シート!C29=\"\",\"\",A表入力シート!C29)","v":""},null,"容器規格商品の容量",null,null,{"$f":"IF(A表入力シート!C22=\"\",\"\",A表入力シート!C22)","v":""}]
[]
[null,"２．各県入力項目"]
[null,"給食会コード　",null,null,null,null,"給食会品名"]
[]
[null,"３．学校給食用物資検索システム導入県入力項目（「学校給食用物資検索システム」を運用していない県においては不要です）"]
[null,"備考欄"]
[]
[null,"４．給食管理システム導入県入力項目（「学校給食管理システム」を運用していない県においては不要です）"]
[null,"給食管理システムコード"]
[null," カナ名",null,null,"略名１",null,null," ひらがな名",null,null,null,"略名２"]
[null,"受注単位（ｇ）",null,null,null,"最小包装単位の１個当り重量（ｇ）",null,null,null,null,"最小包装単位の入数"]
[]
[null,"個数表示区分",null,null,null,{"$f":"IF(E20=1,\"個\",IF(E20=2,\"枚\",IF(E20=3,\"個\",IF(E20=4,\"袋\",IF(E20=5,\"箱\",IF(E20=6,\"㎏\",IF(E20=7,\"缶\",IF(E20=8,\"ﾊﾟｯｸ\",\"?\"))))))))","v":"?"}," ←　１：個　 ２：枚　 ３：本　 ４：袋　 ５：箱　 ６：㎏ 　７：缶 　８：パック 　９：切"]
[null,"基礎食品群",null,null,null,{"$f":"IF(E21=1,\"一群(赤)\",IF(E21=2,\"二群(赤)\",IF(E21=3,\"三群(緑)\",IF(E21=4,\"四群(緑)\",IF(E21=5,\"五群(黄)\",IF(E21=6,\"六群(黄)\",IF(E21=7,\"調味料\",IF(E21=0,\"その他\",\"?\"))))))))","v":"その他"}," ←  １：一群(赤)  ２：二群(赤)  ３：三群(緑)  ４：四群(緑)　５：五群(黄)  ６：六群(黄)  ７： 調味料  ０： その他"]
[null,"週報食品分類",null,null,null,{"$f":" VLOOKUP($E22,B29:F57,2,FALSE)","v":{"$error":"#N/A"}},null,null,"下記コード表による"]
[null,"保健所食品分類",null,null,null,{"$f":" VLOOKUP($E23,G29:J59,2,FALSE)","v":{"$error":"#N/A"}},null,null,"下記コード表による"]
[null,"他月報食品分類",null,null,null,{"$f":" VLOOKUP($E24,L29:N59,2,FALSE)","v":{"$error":"#N/A"}},null,"別途コード表による(オプション)"]
[null,"消費税区分",null,null,null,{"$f":"IF(E25=0,\"外税\",IF(E25=1,\"内税\",IF(E25=2,\"非課税\",\"?\")))","v":"外税"}," ←　０：外税　 　１：内税　 　９：非課税"]
[null,"容量単位",null,null,null,{"$f":"IF(E26=0,\"ｇ\",IF(E26=1,\"ｃｃ\",\"?\"))","v":"ｇ"}," ←　０： ｇ　  　　 １： ｃｃ"]
[]
[null,"週報食品分類　(文科省報告用)",null,null,null,null,"保健所食品分類（県食品分類） ※",null,null,null,null,"日本食品標準成分表食品分類　※"]
[null,10,"主食　パン（小麦粉重量）",null,null,null,10,"主食パン",null,null,null,1,"穀類　"]
[null,20,"米等　　　　　　　　　　",null,null,null,20,"主食　米・麦",null,null,null,2,"いも・でん粉類"]
[null,30,"牛乳　　　　　　　　　　　　　",null,null,null,30,"主食　麺",null,null,null,3,"砂糖・甘味類　　　"]
[null,40,"小麦粉製品（主食以外）",null,null,null,40,"牛乳",null,null,null,4,"豆類　　"]
[null,41,"主食　めん（小麦粉重量）",null,null,null,50,"小麦粉及びその製品",null,null,null,5,"種実類　"]
[null,50,"芋及びでん粉類",null,null,null,60,"その他の穀類",null,null,null,6,"野菜類　　"]
[null,60,"砂糖類　　　　　　　　　　　　",null,null,null,70,"芋及び澱粉",null,null,null,7,"果実類　"]
[null,70,"油脂類　　　　　　　　　　　　",null,null,null,80,"砂糖類",null,null,null,8,"きのこ類"]
[null,80,"種実類　　　　　　　　　　　　",null,null,null,90,"豆類",null,null,null,9,"藻類　　　"]
[null,90,"豆類",null,null,null,100,"豆製品類",null,null,null,10,"魚介類　"]
[null,91,"豆製品類",null,null,null,110,"種実類",null,null,null,11,"肉類　　　"]
[null,100,"魚介類　　　　　　　　　　　　",null,null,null,120,"緑黄色野菜",null,null,null,12,"卵類　"]
[null,101,"小魚類",null,null,null,130,"その他野菜",null,null,null,13,"乳類"]
[null,110,"肉類",null,null,null,140,"果物類",null,null,null,14,"油脂類"]
[null,120,"卵類　　　　　　　　　　　　　",null,null,null,150,"きのこ類",null,null,null,15,"菓子類　　"]
[null,130,"乳類",null,null,null,160,"藻類",null,null,null,16,"し好飲料類　　"]
[null,140,"緑黄色野菜類",null,null,null,170,"魚介類",null,null,null,17,"調味料・香辛料類"]
[null,150,"その他野菜類",null,null,null,180,"小魚類",null,null,null,18,"調理済み流通食品類"]
[null,160,"果物類",null,null,null,190,"肉類",null,null,null,19,"　　　　"]
[null,170,"藻類　　　　　　　　　　　　　",null,null,null,200,"卵類",null,null,null,20,"　　　"]
[null,180,"その他（その他）",null,null,null,210,"乳類",null,null,null,21,"パン添加物類"]
[null,null,null,null,null,null,220,"油脂類",null,null,null,22,"ふりかけ類　"]
[null,182,"きのこ類",null,null,null,230,"その他",null,null,null,23,"ごはんの素類　"]
[null,183,"その他（調味料及び香辛料）",null,null,null,null,null,null,null,null,24,"その他"]
[null,184,"その他（水分）　　　　　　　　"]
[null,185,"その他（菓子類）",null,null,null,null,null,null,null,null,90,"食品外"]
[null,186,"その他（し好飲料類）",null,null,null,null,null,null,null,null,"※"]
[null,187,"その他（調理加工食品類）",null,null,null,null,null,null,null,null,"保健所食品分類（県食品分類）及び"]
[null,999,"集計対象外",null,null,null,null,null,null,null,null,"日本食品標準成分表食品分類はロッ"]
[null,null,null,null,null,null,null,null,null,null,null,"クしていません。変更可能です。"]
[null,null,null,null,null,null,999,"対象外"]
[]
[]
[null,"受注単位（ｇ）、最小包装単位の１個当り重量（ｇ）及び最小包装単位の入数の記入例"]
[]
[null,"（例1）","50ｇ真空パック商品（10個パック）を食単位で供給の場合"]
[null,null,"受注単位＝50ｇ、最小包装単位の１個当り重量＝50g、最小包装単位の入数＝1"]
[null,"（例2）","50ｇ真空パック商品（10個パック）を食単位（パック単位）で供給の場合"]
[null,null,"受注単位＝500g、最小包装単位の１個当り重量＝50g、最小包装単位の入数＝10"]
[null,"（例3）","1Kg袋冷凍食品（45～50個入り）を1Kg単位で供給の場合"]
[null,null,"受注単位＝1000ｇ、最小包装単位の１個当り重量＝20g、最小包装単位の入数＝50"]
[null,"（例4）","10Kg袋澱粉を100ｇ単位で小分け供給の場合"]
[null,null,"受注単位＝100ｇ、最小包装単位の１個当り重量＝100g、最小包装単位の入数＝1"]

{"sheet":"リスト（非表示）","index":5,"n_rows":297,"n_cols":8,"rows_kept":297,"cut":false,"hidden":true,"merged":[]}
["産地名①","国内"]
[null,"輸入"]
[null,"国内・輸入"]
[]
["保存形態","冷凍"]
[null,"冷蔵"]
[null,"常温"]
[null,"冷暗所"]
[]
["調理区分","揚"]
[null,"ボイル"]
[null,"蒸"]
[null,"煮"]
[null,"焼"]
[null,"炒"]
[null,"茹"]
[null,"スチコン"]
[null,"自然解凍"]
[null,"その他"]
[]
["アレルギー関連"]
["特定原材料"]
[1,"小麦"]
[2,"そば"]
[3,"卵"]
[4,"乳"]
[5,"落花生（ピーナッツ）"]
[6,"えび"]
[7,"かに"]
[8,"くるみ"]
[]
[]
["特定原材料に\n準ずるもの"]
[1,"あわび"]
[2,"いか"]
[3,"いくら"]
[4,"オレンジ"]
[5,"キウイフルーツ"]
[6,"牛肉"]
[7,"さけ"]
[8,"さば"]
[9,"大豆"]
[10,"鶏肉"]
[11,"豚肉"]
[12,"まつたけ"]
[13,"もも"]
[14,"やまいも"]
[15,"りんご"]
[16,"ゼラチン"]
[17,"バナナ"]
[18,"ごま"]
[19,"カシューナッツ"]
[20,"アーモンド"]
[21,"※魚介類"]
[]
[]
[]
[]
[]
["製品表示","有"]
[null,"無"]
[]
[]
["一括表示"]
["凍結前","加熱"]
[null,"無加熱"]
["喫食時","加熱"]
[null,"無加熱"]
[]
["年",21]
[null,22]
[null,23]
[null,24]
[null,25]
[null,26]
[null,27]
[null,28]
[null,29]
[null,30]
[null,31]
[null,32]
[null,33]
[null,34]
[null,35]
[null,36]
[null,37]
[]
["月",1]
[null,2]
[null,3]
[null,4]
[null,5]
[null,6]
[null,7]
[null,8]
[null,9]
[null,10]
[null,11]
[null,12]
[]
["日",1]
[null,2]
[null,3]
[null,4]
[null,5]
[null,6]
[null,7]
[null,8]
[null,9]
[null,10]
[null,11]
[null,12]
[null,13]
[null,14]
[null,15]
[null,16]
[null,17]
[null,18]
[null,19]
[null,20]
[null,21]
[null,22]
[null,23]
[null,24]
[null,25]
[null,26]
[null,27]
[null,28]
[null,29]
[null,30]
[null,31]
[]
["賞味年"]
[null,1]
[null,2]
[null,3]
[null,4]
[]
["検査年",21]
[null,22]
[null,23]
[null,24]
[null,25]
[null,26]
[null,27]
[null,28]
[null,29]
[null,30]
[null,31]
[null,32]
[null,33]
[null,34]
[null,35]
[null,36]
[null,37]
[]
["合",2]
[null,3]
[null,4]
[null,5]
[null,6]
[null,7]
[null,8]
[]
["消費期限",1]
[null,2]
[null,3]
[null,4]
[null,5]
[null,6]
[null,7]
[null,8]
[null,9]
[null,10]
[null,11]
[null,12]
[null,13]
[null,14]
[null,15]
[]
["前回提出内容との相違"]
[null,"無"]
[null,"品名"]
[null,"正味重量又は固形量"]
[null,"総量（固形量＋溶液）"]
[null,"容量規格商品の容量"]
[null,"入数"]
[null,"銘柄"]
[null,"1Kg・1袋の個数"]
[null,"製造者"]
[null,"取扱者"]
[null,"栄養成分成績"]
[null,"原料配合"]
[null,"アレルギー表示"]
[null,"表示"]
[null,"細菌検査"]
[null,"賞味期間又は消費期限"]
[null,"保存条件"]
[null,"調理区分"]
[null,"商品説明"]
[null,"調理方法"]
[]
["主原料産地区分","県内生産品（県産品又は県産品主原料）"]
[null,"県内製造品（主原料国産品で県内工場製造）"]
[null,"県外生産品（主原料国産品で県外工場製造又は県外生産品）"]
[null,"海外生産品（海外生産又は製造）"]
[null,"主原料輸入品（主原料輸入品で国内製造又はリパック品）"]
[]
["保存温度","以下"]
[null,"以上"]
[]
["選定品","共通選定品"]
[null,"準共通選定品"]
[null,"県内選定品"]
[]
["価格表掲載","有"]
[null,"無"]
[]
["賞味月",1]
[null,2]
[null,3]
[null,4]
[null,5]
[null,6]
[null,7]
[null,8]
[null,9]
[null,10]
[null,11]
[]
["賞味月又は日",1,"ヶ月"]
[null,2,"日"]
[]
["選定品学期",1]
[null,2]
[null,3]
[]
["開発品","開発品"]
[]
["由来原料コンタミ選択"]
[null,"ラインコンタミ"]
[null,"工場内コンタミ"]
[null,"漁獲時コンタミ"]
[null,"収穫時コンタミ"]
[]
[]
[]
["加工助剤・コンタミ・キャリーオーバー等に由来するアレルギー物質のチェック欄"]
[null,"加工助剤に由来",null,null,null,null,null,"OR($F159=”加工助剤に由来”、$F159=”ｷｬﾘｰｵｰﾊﾞｰに由来”、$F159=”その他”、$F159=”（一括表示枠内外　記載無し）加工助剤に由来”、$F159=”（一括表示枠内外　記載無し）ｷｬﾘｰｵｰﾊﾞｰに由来”"]
[null,"ｺﾝﾀﾐﾈｰｼｮﾝに由来"]
[null,"ｷｬﾘｰｵｰﾊﾞｰに由来"]
[null,"その他"]
[null,"（一括表示枠内外　記載無し）加工助剤に由来"]
[null,"（一括表示枠内外　記載無し）ｺﾝﾀﾐﾈｰｼｮﾝに由来"]
[null,"（一括表示枠内外　記載無し）ｷｬﾘｰｵｰﾊﾞｰに由来"]
[]
[]
["工場日産能力",1,"トン"]
["当該物資日産能力",2,"ｋｇ"]
[null,3,"食"]
[]
[]
["一般細菌数",1,"以下"]
[null,2]
[]
["一般細菌数乗数",2]
[null,3]
[null,4]
[null,5]
[null,6]
[null,7]
[]
[]
[]
["HACCP","に基づく衛生管理"]
[null,"の考えを取り入れた衛生管理"]
[]
[]
["個食袋","はい"]
[null,"いいえ"]
[]
[]
["個食包材（リンク）",{"$f":"IF(A表入力シート!C234=\"\",\"\",\"フタ：\"&A表入力シート!C234&\"　\")","v":""}]
[null,{"$f":"IF(A表入力シート!C235=\"\",\"\",\"カップ：\"&A表入力シート!C235&\"　\")","v":""}]
[null,{"$f":"IF(A表入力シート!C236=\"\",\"\",\"スプーン：\"&A表入力シート!C236&\"　\")","v":""}]
[null,{"$f":"IF(A表入力シート!C237=\"\",\"\",\"個食箱：\"&A表入力シート!C237&\"　\")","v":""}]
[null,{"$f":"IF(A表入力シート!C238=\"\",\"\",\"個食袋：\"&A表入力シート!C238&\"　\")","v":""}]
[null,{"$f":"IF(A表入力シート!B239=\"\",\"\",A表入力シート!B239&\"：\"&A表入力シート!C239&\"　\")","v":""}]
[null,{"$f":"IF(A表入力シート!B240=\"\",\"\",A表入力シート!B240&\"：\"&A表入力シート!C240)","v":""}]
[]
[]
["栄養成分表"]
[null,"五訂"]
[null,"五訂増補"]
[null,2010]
[null,"2015年版（七訂）"]
[null,"2020年版（八訂）"]